BEGIN:VCALENDAR
VERSION:2.0
PRODID:-//wp-events-plugin.com//7.2.3.1//EN
TZID:America/New_York
X-WR-TIMEZONE:America/New_York
BEGIN:VEVENT
UID:1843@evenements.onf.ca
DTSTART;TZID=America/New_York:20250824T203000
DTEND;TZID=America/New_York:20250824T203000
DTSTAMP:20250812T203605Z
URL:https://evenements.onf.ca/evenements/6492/
SUMMARY:La révolution du dansage
DESCRIPTION:Le 24 août la Fondation François-Lamy projettera gratuitement
  La révolution du dansage. \n\nPour plus d'information : Caméra Insulai
 re
ATTACH;FMTTYPE=image/jpeg:https://evenements.onf.ca/wp-content/uploads/202
 5/08/1080p_HD_1025846_Larvolutiondudansage_-_storyart-16x9-1.jpg
CATEGORIES:Événement gratuit,Projections
LOCATION:Parc des Ancêtres\, 2485\, Chemin Royal\, Sainte-Famille\, QC\, G
 0A 3P0\, Canada
GEO:46.974083;-70.962794
X-APPLE-STRUCTURED-LOCATION;VALUE=URI;X-ADDRESS=2485\, Chemin Royal\, Saint
 e-Famille\, QC\, G0A 3P0\, Canada;X-APPLE-RADIUS=100;X-TITLE=Parc des Anc
 êtres:geo:46.974083,-70.962794
END:VEVENT
BEGIN:VTIMEZONE
TZID:America/New_York
X-LIC-LOCATION:America/New_York
BEGIN:DAYLIGHT
DTSTART:20250309T030000
TZOFFSETFROM:-0500
TZOFFSETTO:-0400
TZNAME:EDT
END:DAYLIGHT
END:VTIMEZONE
END:VCALENDAR