BEGIN:VCALENDAR
VERSION:2.0
PRODID:-//wp-events-plugin.com//7.2.3.1//EN
TZID:America/New_York
X-WR-TIMEZONE:America/New_York
BEGIN:VEVENT
UID:1871@evenements.onf.ca
DTSTART;TZID=America/New_York:20251023T000000
DTEND;TZID=America/New_York:20251023T000000
DTSTAMP:20250929T200250Z
URL:https://evenements.onf.ca/evenements/6610/
SUMMARY:Ninan Auassat au Centre Communautaire Rendez-Vous 50+
DESCRIPTION:Le 23 octobre à 9h\, le centre communautaire Rendez-vous 50+ p
 résentera gratuitement le film Ninan Auassat: Nous les enfants de Kim O'B
 omsawin.\n\nPour plus d'informations : Centre communautaire Rendez-vous 50
 +\n\nNinan Auassat (Nous\, les enfants) | Kim O’Bomsawin | 2024 | 1 h 
 31 min\n\nReconnue pour sa cinématographie intimiste\, la réalisatrice K
 im O’Bomsawin nous invite à plonger dans l’univers vibrant de Ninan 
 Auassat : Nous\, les enfants. Cette œuvre de longue haleine\, dont le to
 urnage s’est déroulé sur plus de six ans\, suit les parcours de trois 
 groupes d’enfants de nations différentes (Atikamekw\, Eeyou-Cri et Innu
 ).\n\nEn suivant ces jeunes au fil des étapes cruciales qui mènent jusqu
 ’au seuil de l’âge adulte\, nous devenons les témoins de leur vie qu
 otidienne\, de leurs aspirations et des défis auxquels ils font face. Tou
 rné « à hauteur d’enfant » et proposant une vision novatrice de 
 la jeunesse autochtone\, ce puissant documentaire est marqué par l’abse
 nce totale de la parole des adultes et des « experts de la jeunesse 
 ». Il laisse ainsi toute la place à la nouvelle génération\, et à son
  désir ardent d’être entendue.\n\nRésultat : ce périple captivant d
 evient un appel à l’action\, à l’heure où la voix des jeunes réson
 ne\, réclamant le droit à la reconnaissance et à l’épanouissement.\n
 \nNinan Auassat : Nous\, les enfants | BANDE-ANNONCE sur Vimeo
ATTACH;FMTTYPE=image/jpeg:https://evenements.onf.ca/wp-content/uploads/202
 5/09/ONF_HEADER-1440x810_AA_mai2024_FR_1-1-scaled.jpg
CATEGORIES:Projections
LOCATION:Maison du citoyen\, 7501 rue François Perrault\, \, Montréal\, Q
 C\, 1M1\, Canada
GEO:45.56171;-73.601237
X-APPLE-STRUCTURED-LOCATION;VALUE=URI;X-ADDRESS=7501 rue François Perrault
 \, \, Montréal\, QC\, 1M1\, Canada;X-APPLE-RADIUS=100;X-TITLE=Maison du c
 itoyen:geo:45.56171,-73.601237
END:VEVENT
BEGIN:VTIMEZONE
TZID:America/New_York
X-LIC-LOCATION:America/New_York
BEGIN:DAYLIGHT
DTSTART:20250309T030000
TZOFFSETFROM:-0500
TZOFFSETTO:-0400
TZNAME:EDT
END:DAYLIGHT
END:VTIMEZONE
END:VCALENDAR