BEGIN:VCALENDAR
VERSION:2.0
PRODID:-//wp-events-plugin.com//7.2.3.1//EN
TZID:America/New_York
X-WR-TIMEZONE:America/New_York
BEGIN:VEVENT
UID:1827@evenements.onf.ca
DTSTART;TZID=America/New_York;VALUE=DATE:20250513
DTEND;TZID=America/New_York;VALUE=DATE:20250514
DTSTAMP:20250502T184953Z
URL:https://evenements.onf.ca/evenements/7-battements-par-minute-banq/
SUMMARY:7 battements par minute - BANQ
DESCRIPTION:Dans le cadre du programme L'ONF EN BIBLIO\, la BANQ présenter
 a  7 battements par minute dans leur série Les grandes vues.\n\n7 battem
 ents par minute | Cinéaste: Yuqi Kang |  2024 | 1 h 40 min\n\nProjectio
 n à 14 h (salle de visionnement\, niveau 4)\nProjection à 18:30 h (sall
 e de visionnement\, niveau 4) En présence de la cinéaste Halima Elkhatab
 i\n\nAu fil de saynètes curieuses et de conversations captivantes\, de je
 unes gens en quête d’une colocation explorent la possibilité de forger
  un lien réel avec l’autre. Posant sa caméra dans une quinzaine d’ap
 partements avec « chambre à louer » à Montréal\, la réalisatrice
  Halima Elkhatabi brosse le portrait complexe et attachant d’une génér
 ation habituée à sortir toutes les cartes de son identité pour trouver 
 sa place dans le monde. D’emblée\, on demande et on livre tout\, on dé
 finit son individualité et on sonde celle de l’autre.\n\nChacun et chac
 une se dévoile avec candeur et vulnérabilité\, espérant rencontrer la 
 perle rare avec qui partager son espace et ses valeurs. Premier long métr
 age documentaire d’une cinéaste au regard tendre et généreux\, Cohab
 iter dessine une mosaïque de cultures et d’idées\, où se croisent da
 ns un mouvement constant les notions de communauté\, d’individualisme e
 t de droit au logement.\n\n7 battements par minute - ONF\n_________\nPROJE
 CTION GRATUITE\nPour plus de renseignements\, consulter la page de l’é
 vénement sur le site de la bibliothèque.
ATTACH;FMTTYPE=image/jpeg:https://evenements.onf.ca/wp-content/uploads/202
 4/11/7bpm_poster_websizes-1.jpg
CATEGORIES:Événement gratuit,L'ONF EN BIBLIO,Projections
LOCATION:Grande bibliothèque\, 475\, De Maisonneuve Est\, Montréal\, Qué
 bec\, H2L 5C4\, Canada
GEO:45.505638;-73.570711
X-APPLE-STRUCTURED-LOCATION;VALUE=URI;X-ADDRESS=475\, De Maisonneuve Est\, 
 Montréal\, Québec\, H2L 5C4\, Canada;X-APPLE-RADIUS=100;X-TITLE=Grande b
 ibliothèque:geo:45.505638,-73.570711
END:VEVENT
BEGIN:VTIMEZONE
TZID:America/New_York
X-LIC-LOCATION:America/New_York
BEGIN:DAYLIGHT
DTSTART:20250309T030000
TZOFFSETFROM:-0500
TZOFFSETTO:-0400
TZNAME:EDT
END:DAYLIGHT
END:VTIMEZONE
END:VCALENDAR