BEGIN:VCALENDAR
VERSION:2.0
PRODID:-//wp-events-plugin.com//7.2.3.1//EN
TZID:America/New_York
X-WR-TIMEZONE:America/New_York
BEGIN:VEVENT
UID:1845@evenements.onf.ca
DTSTART;TZID=America/New_York:20250928T000000
DTEND;TZID=America/New_York:20250928T000000
DTSTAMP:20250812T203637Z
URL:https://evenements.onf.ca/evenements/albedo-au-musee-mccord/
SUMMARY:Albédo au Musée McCord
DESCRIPTION:Le 28 septembre\, le musée McCord Stewart diffusera gratuiteme
 nt Albédo - ONF\n\nPour plus d'informations : Projection de films : Tro
 is photographes à travers la lentille - Musée McCord Stewart\n\n&nbsp\;
ATTACH;FMTTYPE=image/jpeg:https://evenements.onf.ca/wp-content/uploads/202
 5/08/Albedo_2003_XL_SvKJVz3.jpg
CATEGORIES:Événement gratuit,Projections
LOCATION:Musée McCord\, 690\, rue Sherbrooke Ouest\, Montréal\, Québec\,
  H3A 1E9\, Québec\, Canada
GEO:45.504308;-73.573362
X-APPLE-STRUCTURED-LOCATION;VALUE=URI;X-ADDRESS=690\, rue Sherbrooke Ouest\
 , Montréal\, Québec\, H3A 1E9\, Québec\, Canada;X-APPLE-RADIUS=100;X-TI
 TLE=Musée McCord:geo:45.504308,-73.573362
END:VEVENT
BEGIN:VTIMEZONE
TZID:America/New_York
X-LIC-LOCATION:America/New_York
BEGIN:DAYLIGHT
DTSTART:20250309T030000
TZOFFSETFROM:-0500
TZOFFSETTO:-0400
TZNAME:EDT
END:DAYLIGHT
END:VTIMEZONE
END:VCALENDAR