BEGIN:VCALENDAR
VERSION:2.0
PRODID:-//wp-events-plugin.com//7.2.3.1//EN
TZID:America/New_York
X-WR-TIMEZONE:America/New_York
BEGIN:VEVENT
UID:1911@evenements.onf.ca
DTSTART;TZID=America/New_York:20260306T000000
DTEND;TZID=America/New_York:20260327T000000
DTSTAMP:20260226T164901Z
URL:https://evenements.onf.ca/evenements/bibliotheque-de-port-colbourne/
SUMMARY:Bibliothèque de Port Colbourne
DESCRIPTION:La bibliothèque de Port Colbourne présentera 3 programmes des
  Rendez-Vous de la Francophonie\, le 6\, 13 et 27 mars.\n\nPour plus d'inf
 ormations : Month of La Francophonie
ATTACH;FMTTYPE=image/jpeg:https://evenements.onf.ca/wp-content/uploads/202
 4/10/DSCF2274_EPK-v2-1-scaled.jpg
LOCATION:Port Colborne Public Library\, 310 King St\, \, Port Colborne\, L3
 K 4H1\, Canada
GEO:42.88807;-79.252071
X-APPLE-STRUCTURED-LOCATION;VALUE=URI;X-ADDRESS=310 King St\, \, Port Colbo
 rne\, L3K 4H1\, Canada;X-APPLE-RADIUS=100;X-TITLE=Port Colborne Public Lib
 rary:geo:42.88807,-79.252071
END:VEVENT
BEGIN:VTIMEZONE
TZID:America/New_York
X-LIC-LOCATION:America/New_York
BEGIN:STANDARD
DTSTART:20251102T010000
TZOFFSETFROM:-0400
TZOFFSETTO:-0500
TZNAME:EST
END:STANDARD
BEGIN:DAYLIGHT
DTSTART:20260308T030000
TZOFFSETFROM:-0500
TZOFFSETTO:-0400
TZNAME:EDT
END:DAYLIGHT
END:VTIMEZONE
END:VCALENDAR