BEGIN:VCALENDAR
VERSION:2.0
PRODID:-//wp-events-plugin.com//7.2.3.1//EN
TZID:America/New_York
X-WR-TIMEZONE:America/New_York
BEGIN:VEVENT
UID:1919@evenements.onf.ca
DTSTART;TZID=America/New_York:20260328T000000
DTEND;TZID=America/New_York:20260328T000000
DTSTAMP:20260303T194539Z
URL:https://evenements.onf.ca/evenements/bibliotheque-dottawa-cumberland-2
 /
SUMMARY:Bibliothèque d'Ottawa - Cumberland
DESCRIPTION:Le 28 mars à 14\, la bibliothèque présentera gratuitement le
  programme 1 des Rendez-Vous de la Francophonie.\n\nPour plus d'informatio
 ns : Projection de l'ONF : On s’active pour l’environnement! | Bibliot
 hèque publique d'Ottawa
ATTACH;FMTTYPE=image/jpeg:https://evenements.onf.ca/wp-content/uploads/202
 4/10/DSCF2274_EPK-v2-1-scaled.jpg
LOCATION:Bibliothèque publique d'Ottawa - succursale Cumberland\, 1599 Ten
 th Line Rd\, Orléans\, ON\, K1E 3E8\, Canada
GEO:45.471463;-75.4933
X-APPLE-STRUCTURED-LOCATION;VALUE=URI;X-ADDRESS=1599 Tenth Line Rd\, Orléa
 ns\, ON\, K1E 3E8\, Canada;X-APPLE-RADIUS=100;X-TITLE=Bibliothèque publiq
 ue d'Ottawa - succursale Cumberland:geo:45.471463,-75.4933
END:VEVENT
BEGIN:VTIMEZONE
TZID:America/New_York
X-LIC-LOCATION:America/New_York
BEGIN:DAYLIGHT
DTSTART:20260308T030000
TZOFFSETFROM:-0500
TZOFFSETTO:-0400
TZNAME:EDT
END:DAYLIGHT
END:VTIMEZONE
END:VCALENDAR