BEGIN:VCALENDAR
VERSION:2.0
PRODID:-//wp-events-plugin.com//7.2.3.1//EN
TZID:America/New_York
X-WR-TIMEZONE:America/New_York
BEGIN:VEVENT
UID:1912@evenements.onf.ca
DTSTART;TZID=America/New_York:20260307T000000
DTEND;TZID=America/New_York:20260307T000000
DTSTAMP:20260226T165511Z
URL:https://evenements.onf.ca/evenements/bibliotheque-dottawa/
SUMMARY:Bibliothèque d'Ottawa
DESCRIPTION:Le samedi 7 mars\, la bibliothèque d'Ottawa présentera gratui
 tement le programme 2 des Rendez-Vous de la Francophonie.\n\nPour plus d'i
 nformation : Mois de la francophonie : documentaires de l'Office national
  du film | Bibliothèque publique d'Ottawa\nProgramme 2 : Dessus dessous\,
  dessous dessus\, en rythme et en danse !\nDes étoiles plein les yeux e
 t les chaussons bien lacés\, des jeunes de 11 à 14 ans font leurs premie
 rs pas dans le prestigieux programme professionnel de l’École supérieu
 re de ballet du Québec. Mais ce film ne parle pas que de danse. \n\nPoin
 t d’équilibre est une exploration délicate de ce moment charnière de
  l’enfance où les gestes parlent plus fort que les mots\, où chaque pi
 rouette devient une déclaration et chaque chute\, un apprentissage. \n\n
 Entre rigueur et passion\, grâce et doute\, ce documentaire capte l’int
 ime avec une tendresse rare. Il nous rappelle que grandir\, c’est aussi 
 apprendre à trouver son propre rythme… et parfois\, son point d’équi
 libre. \n\nPoint d’équilibre | Christine Chevarie-Lessard | 2018 | 76
  min | Documentaire | Français \n\nPrécédé de Zab Maboungo | Carmin
 e Pierre-Dufour | 2021 | 4 min | Documentaire | Français \n\n&nbsp\;
ATTACH;FMTTYPE=image/jpeg:https://evenements.onf.ca/wp-content/uploads/202
 6/02/POINT-DEQUILIBRE_epk_FR-2.png
LOCATION:Bibliothèque Publique d'Ottawa - Centrale\, 120 Metcalfe St\, Ott
 awa\, ON \, Ottawa\, Ontario\, K1P 5M2\, Ontario\, Canada
GEO:45.420388;-75.695488
X-APPLE-STRUCTURED-LOCATION;VALUE=URI;X-ADDRESS=120 Metcalfe St\, Ottawa\, 
 ON \, Ottawa\, Ontario\, K1P 5M2\, Ontario\, Canada;X-APPLE-RADIUS=100;X-T
 ITLE=Bibliothèque Publique d'Ottawa - Centrale:geo:45.420388,-75.695488
END:VEVENT
BEGIN:VTIMEZONE
TZID:America/New_York
X-LIC-LOCATION:America/New_York
BEGIN:STANDARD
DTSTART:20251102T010000
TZOFFSETFROM:-0400
TZOFFSETTO:-0500
TZNAME:EST
END:STANDARD
END:VTIMEZONE
END:VCALENDAR