BEGIN:VCALENDAR
VERSION:2.0
PRODID:-//wp-events-plugin.com//7.2.3.1//EN
TZID:America/New_York
X-WR-TIMEZONE:America/New_York
BEGIN:VEVENT
UID:1213@evenements.onf.ca
DTSTART;TZID=America/New_York:20221115T190000
DTEND;TZID=America/New_York:20221115T203000
DTSTAMP:20221006T171642Z
URL:https://evenements.onf.ca/evenements/borealis-5/
SUMMARY:Borealis
DESCRIPTION:\n\n\nDans le cadre de l’ONF à la maison\, la Maison culture
 lle et communautaire de Montréal-Nord présente le film Borealis (2020\, 
 93 min 21):\n\n\n\nComment les arbres arrivent-ils à évoluer\, à commun
 iquer\, à survivre malgré les forces destructrices du feu\, des insectes
  et de l’intrusion humaine ? Borealis offre un portrait immersif des
  cycles de vie de la forêt\, présenté selon la perspective des plantes 
 et des animaux qui y vivent.\n\n—–\n\nProjection GRATUITE\n\nPrécéd
 ée du court-métrage Canada Vignettes : L'arbre (1 min)\n\nPour plus d’
 info\, visitez: https://montreal.ca/evenements/borealis-kevin-mcmahon-3608
 9
ATTACH;FMTTYPE=image/jpeg:https://evenements.onf.ca/wp-content/uploads/202
 2/09/Borealis_001.jpg
CATEGORIES:Événement gratuit,L'ONF à la maison,Projections
LOCATION:MAISON CULTURELLE ET COMMUNAUTAIRE de Montréal-Nord\, 12004\, bou
 levard Rolland\, Montréal\, Québec\,  H1G 3W1\, Québec\, Canada
GEO:45.616505;-73.621074
X-APPLE-STRUCTURED-LOCATION;VALUE=URI;X-ADDRESS=12004\, boulevard Rolland\,
  Montréal\, Québec\,  H1G 3W1\, Québec\, Canada;X-APPLE-RADIUS=100;X-TI
 TLE=MAISON CULTURELLE ET COMMUNAUTAIRE de Montréal-Nord:geo:45.616505,-73
 .621074
END:VEVENT
BEGIN:VTIMEZONE
TZID:America/New_York
X-LIC-LOCATION:America/New_York
BEGIN:STANDARD
DTSTART:20221106T010000
TZOFFSETFROM:-0400
TZOFFSETTO:-0500
TZNAME:EST
END:STANDARD
END:VTIMEZONE
END:VCALENDAR