BEGIN:VCALENDAR
VERSION:2.0
PRODID:-//wp-events-plugin.com//7.2.3.1//EN
TZID:America/New_York
X-WR-TIMEZONE:America/New_York
BEGIN:VEVENT
UID:630@evenements.onf.ca
DTSTART;TZID=America/New_York:20200323T133000
DTEND;TZID=America/New_York:20200323T143000
DTSTAMP:20200128T215426Z
URL:https://evenements.onf.ca/evenements/bouche-decousue-2-courts-metrages
 /
SUMMARY:Bouche décousue + 2 courts-métrages
DESCRIPTION:Durée du programme : 61 minutes\n\nBouche décousue\n\nLe prin
 temps de Mélie\n\nL'été de Boniface\n\n&nbsp\;\n\n&nbsp\;
ATTACH;FMTTYPE=image/jpeg:https://evenements.onf.ca/wp-content/uploads/202
 0/01/big_mouth_59180_XL-e1580248378102.jpg
CATEGORIES:Projections
LOCATION:Bibliothèque d'Acton Vale\, 1093 Rue Saint André\, Acton Vale\, 
 Québec\, J0H 1A0\, QC\, Canada
GEO:45.649514;-72.565042
X-APPLE-STRUCTURED-LOCATION;VALUE=URI;X-ADDRESS=1093 Rue Saint André\, Act
 on Vale\, Québec\, J0H 1A0\, QC\, Canada;X-APPLE-RADIUS=100;X-TITLE=Bibli
 othèque d'Acton Vale:geo:45.649514,-72.565042
END:VEVENT
BEGIN:VTIMEZONE
TZID:America/New_York
X-LIC-LOCATION:America/New_York
BEGIN:DAYLIGHT
DTSTART:20200308T030000
TZOFFSETFROM:-0500
TZOFFSETTO:-0400
TZNAME:EDT
END:DAYLIGHT
END:VTIMEZONE
END:VCALENDAR