BEGIN:VCALENDAR
VERSION:2.0
PRODID:-//wp-events-plugin.com//7.2.3.1//EN
TZID:America/New_York
X-WR-TIMEZONE:America/New_York
BEGIN:VEVENT
UID:1842@evenements.onf.ca
DTSTART;TZID=America/New_York:20250821T200000
DTEND;TZID=America/New_York:20250821T200000
DTSTAMP:20250812T203548Z
URL:https://evenements.onf.ca/evenements/cinema-des-filministes-place-des-
 montrealaises/
SUMMARY:Cinéma des Filministes - place des Montréalaises
DESCRIPTION:Le 21 août le festival Filministes présentera le film Fire-Jo
 -Ball de Audrey Nantel-Gagnon à la place des Montréalaises\n\n&nbsp\;\n\
 nPour plus d'informations : Cinéma du Festival Filministes | Ville de Mon
 tréal
ATTACH;FMTTYPE=image/jpeg:https://evenements.onf.ca/wp-content/uploads/202
 5/08/Horizontal-FireJoBall-1_EPK.jpg
LOCATION:Place des Montréalaises\, Place des Montréalaises\, Montréal\, 
 H2Y 3Z8\, Canada
GEO:45.509843;-73.55614
X-APPLE-STRUCTURED-LOCATION;VALUE=URI;X-ADDRESS=Place des Montréalaises\, 
 Montréal\, H2Y 3Z8\, Canada;X-APPLE-RADIUS=100;X-TITLE=Place des Montréa
 laises:geo:45.509843,-73.55614
END:VEVENT
BEGIN:VTIMEZONE
TZID:America/New_York
X-LIC-LOCATION:America/New_York
BEGIN:DAYLIGHT
DTSTART:20250309T030000
TZOFFSETFROM:-0500
TZOFFSETTO:-0400
TZNAME:EDT
END:DAYLIGHT
END:VTIMEZONE
END:VCALENDAR