BEGIN:VCALENDAR
VERSION:2.0
PRODID:-//wp-events-plugin.com//7.2.3.1//EN
TZID:America/New_York
X-WR-TIMEZONE:America/New_York
BEGIN:VEVENT
UID:1852@evenements.onf.ca
DTSTART;TZID=America/New_York:20250916T140000
DTEND;TZID=America/New_York:20250916T160000
DTSTAMP:20250826T181214Z
URL:https://evenements.onf.ca/evenements/cohabiter-bibliotheque-de-la-vill
 e-de-saint-lambert-2/
SUMMARY:Cohabiter - Bibliothèque de la ville de Saint-Lambert
DESCRIPTION:Dans le cadre du programme L’ONF EN BIBLIO\,  la Bibliothèq
 ue de la ville de Saint-Lambert présentera Cohabiter.\n\nCohabiter | Cin
 éaste: Halima Elkhatabi | 2024 | 75 min\n\nAu fil de saynètes curieuse
 s et de conversations captivantes\, de jeunes gens en quête d’une coloc
 ation explorent la possibilité de forger un lien réel avec l’autre. Po
 sant sa caméra dans une quinzaine d’appartements avec « chambre à l
 ouer » à Montréal\, la réalisatrice Halima Elkhatabi brosse le portr
 ait complexe et attachant d’une génération habituée à sortir toutes 
 les cartes de son identité pour trouver sa place dans le monde. D’embl
 ée\, on demande et on livre tout\, on définit son individualité et on s
 onde celle de l’autre.\n\nChacun et chacune se dévoile avec candeur et 
 vulnérabilité\, espérant rencontrer la perle rare avec qui partager son
  espace et ses valeurs. Premier long métrage documentaire d’une cinéas
 te au regard tendre et généreux\, Cohabiter dessine une mosaïque de c
 ultures et d’idées\, où se croisent dans un mouvement constant les not
 ions de communauté\, d’individualisme et de droit au logement.\n\nCohab
 iter | BANDE-ANNONCE on Vimeo\n_________\nPROJECTION GRATUITE\nPour plus d
 e renseignements\, consulter la page de l’événement sur le site de la
  bibliothèque.
ATTACH;FMTTYPE=image/jpeg:https://evenements.onf.ca/wp-content/uploads/202
 5/02/ONF_973-Cohabiter-1440x810-FR.jpg
CATEGORIES:Événement gratuit,L'ONF EN BIBLIO,Projections
LOCATION:Bibliothèque de Saint-Lambert\, 490 avenue Mercille\, Saint-Lambe
 rt\, QC\, J4P 2L5\, Canada
GEO:45.50331;-73.510311
X-APPLE-STRUCTURED-LOCATION;VALUE=URI;X-ADDRESS=490 avenue Mercille\, Saint
 -Lambert\, QC\, J4P 2L5\, Canada;X-APPLE-RADIUS=100;X-TITLE=Bibliothèque 
 de Saint-Lambert:geo:45.50331,-73.510311
END:VEVENT
BEGIN:VTIMEZONE
TZID:America/New_York
X-LIC-LOCATION:America/New_York
BEGIN:DAYLIGHT
DTSTART:20250309T030000
TZOFFSETFROM:-0500
TZOFFSETTO:-0400
TZNAME:EDT
END:DAYLIGHT
END:VTIMEZONE
END:VCALENDAR