BEGIN:VCALENDAR
VERSION:2.0
PRODID:-//wp-events-plugin.com//7.2.3.1//EN
TZID:America/New_York
X-WR-TIMEZONE:America/New_York
BEGIN:VEVENT
UID:1851@evenements.onf.ca
DTSTART;TZID=America/New_York:20250911T190000
DTEND;TZID=America/New_York:20250911T210000
DTSTAMP:20250826T181154Z
URL:https://evenements.onf.ca/evenements/cohabiter-bibliotheque-de-la-vill
 e-de-saint-lambert/
SUMMARY:Cohabiter - Bibliothèque de la ville de Saint-Lambert
DESCRIPTION:Dans le cadre du programme L’ONF EN BIBLIO\,  la Bibliothèq
 ue de la ville de Saint-Lambert présentera Cohabiter.\nCohabiter | Cinéa
 ste: Halima Elkhatabi | 2024 | 75 min\n\nAu fil de saynètes curieuses e
 t de conversations captivantes\, de jeunes gens en quête d’une colocati
 on explorent la possibilité de forger un lien réel avec l’autre. Posan
 t sa caméra dans une quinzaine d’appartements avec « chambre à loue
 r » à Montréal\, la réalisatrice Halima Elkhatabi brosse le portrait
  complexe et attachant d’une génération habituée à sortir toutes les
  cartes de son identité pour trouver sa place dans le monde. D’emblée\
 , on demande et on livre tout\, on définit son individualité et on sonde
  celle de l’autre.\n\nChacun et chacune se dévoile avec candeur et vuln
 érabilité\, espérant rencontrer la perle rare avec qui partager son esp
 ace et ses valeurs. Premier long métrage documentaire d’une cinéaste a
 u regard tendre et généreux\, Cohabiter dessine une mosaïque de cultu
 res et d’idées\, où se croisent dans un mouvement constant les notions
  de communauté\, d’individualisme et de droit au logement.\n\nCohabiter
  | BANDE-ANNONCE on Vimeo\n_________\nPROJECTION GRATUITE\nPour plus de re
 nseignements\, consulter la page de l’événement sur le site de la bib
 liothèque.
ATTACH;FMTTYPE=image/jpeg:https://evenements.onf.ca/wp-content/uploads/202
 5/02/ONF_973-Cohabiter-1440x810-FR.jpg
CATEGORIES:Événement gratuit,L'ONF EN BIBLIO,Projections
LOCATION:Bibliothèque de Saint-Lambert\, 490 avenue Mercille\, Saint-Lambe
 rt\, QC\, J4P 2L5\, Canada
GEO:45.50331;-73.510311
X-APPLE-STRUCTURED-LOCATION;VALUE=URI;X-ADDRESS=490 avenue Mercille\, Saint
 -Lambert\, QC\, J4P 2L5\, Canada;X-APPLE-RADIUS=100;X-TITLE=Bibliothèque 
 de Saint-Lambert:geo:45.50331,-73.510311
END:VEVENT
BEGIN:VTIMEZONE
TZID:America/New_York
X-LIC-LOCATION:America/New_York
BEGIN:DAYLIGHT
DTSTART:20250309T030000
TZOFFSETFROM:-0500
TZOFFSETTO:-0400
TZNAME:EDT
END:DAYLIGHT
END:VTIMEZONE
END:VCALENDAR