BEGIN:VCALENDAR
VERSION:2.0
PRODID:-//wp-events-plugin.com//7.2.3.1//EN
TZID:America/New_York
X-WR-TIMEZONE:America/New_York
BEGIN:VEVENT
UID:1846@evenements.onf.ca
DTSTART;TZID=America/New_York:20250915T140000
DTEND;TZID=America/New_York:20250915T160000
DTSTAMP:20250826T123036Z
URL:https://evenements.onf.ca/evenements/dans-lombre-du-star-wars-kid-a-la
 -bibliotheque-de-sainte-therese/
SUMMARY:Dans l'ombre du Star Wars Kid à la Bibliothèque de Sainte-Thérè
 se
DESCRIPTION:Dans le cadre du programme L'ONF EN BIBLIO\, la Bibliothèque d
 e Sainte-Thérèse présentera Dans l'ombre du Star Wars Kid.\nVenez visio
 nner le stupéfiant documentaire Dans l'ombre du Star Wars Kid de Mathieu
  Fournier qui revient 20 ans plus tard sur l’histoire de Ghyslain Raza\,
  le « Star Wars Kid ». La vie de ce dernier a été bouleversée en 2003
  par la mise en ligne à son insu d’une vidéo de lui mimant un personna
 ge de Star Wars. L'adolescent a subi les moqueries du monde entier. Devenu
 \, malgré lui\, le premier phénomène viral de l'ère numérique\, il ex
 plore dans ce film les conséquences de cette expérience douloureuse sur 
 sa vie. Ce faisant\, il explore aussi la nôtre : celle d’internaut
 es qui doivent\, eux aussi\, apprivoiser leur ombre numérique. \n\nDans
  l'ombre du Star Wars Kid | « De geek à icône » (Extrait)\n_________\n
 PROJECTION GRATUITE\nPour plus de renseignements et s'inscrire à l'évén
 ement\, consulter le site de la bibliothèque.
ATTACH;FMTTYPE=image/jpeg:https://evenements.onf.ca/wp-content/uploads/202
 2/11/SWK_PROMO_1440x810_FR.jpg
CATEGORIES:Événement gratuit,L'ONF EN BIBLIO,Projections
LOCATION:Bibliothèque de Sainte-Thérèse\, 150\, boulevard du Séminaire\
 , Sainte-Thérèse\, Québec\, J7E 1Z2\, Québec\, Canada
GEO:45.643808;-73.839304
X-APPLE-STRUCTURED-LOCATION;VALUE=URI;X-ADDRESS=150\, boulevard du Séminai
 re\, Sainte-Thérèse\, Québec\, J7E 1Z2\, Québec\, Canada;X-APPLE-RADIU
 S=100;X-TITLE=Bibliothèque de Sainte-Thérèse:geo:45.643808,-73.839304
END:VEVENT
BEGIN:VTIMEZONE
TZID:America/New_York
X-LIC-LOCATION:America/New_York
BEGIN:DAYLIGHT
DTSTART:20250309T030000
TZOFFSETFROM:-0500
TZOFFSETTO:-0400
TZNAME:EDT
END:DAYLIGHT
END:VTIMEZONE
END:VCALENDAR