BEGIN:VCALENDAR
VERSION:2.0
PRODID:-//wp-events-plugin.com//7.2.3.1//EN
TZID:America/New_York
X-WR-TIMEZONE:America/New_York
BEGIN:VEVENT
UID:1886@evenements.onf.ca
DTSTART;TZID=America/New_York:20260223T120000
DTEND;TZID=America/New_York:20260223T120000
DTSTAMP:20260219T184856Z
URL:https://evenements.onf.ca/evenements/diner-causerie-entre-les-cineaste
 s-wylem-decaille-jireh-gospel-une-famille-de-choeur-et-maryse-legagneur-le
 -dernier-repas/
SUMMARY:Dîner-causerie entre les cinéastes Wylem Decaille et Maryse Leg
 agneur
DESCRIPTION:ÉLEVONS NOS VOIX ENSEMBLE\nÀ l’occasion du Mois de l’his
 toire des Noirs\, en février\, l’Office national du film du Canada pr
 oposera des événements gratuits qui se tiendront à l’Espace ONF et
  à la salle Alanis-Obomsawin\, à l’Îlot Balmoral\, devant la place d
 es Festivals. Ce mois\, sur le thème Élevons nos voix ensemble\, sera 
 également souligné sur les plateformes de l’ONF avec une chaîne th
 ématique consacrée aux communautés noires.\n \n\nLundi 23 février 20
 26 de 12 h à 13 h 45\n\nDîner-causerie entre les cinéastes Wylem 
 Decaille (Jireh Gospel\, une famille de chœur) et Maryse Legagneur (Le de
 rnier repas)\n\nEspace ONF\, entrée gratuite. Ouverture des portes à 11h
 .30. Apportez votre lunch !\n\nCoprésenté par Coalition M.É.D.I.A.\n\
 nVenez assister à une discussion passionnante entre Wylem Decaille\, cin
 éaste émergent d’origine martiniquaise\, et Maryse Legagneur\, réali
 satrice chevronnée afroquébécoise.\n\nWylem Decaille est un jeune ciné
 aste dont le travail explore la mémoire\, la spiritualité et la puissanc
 e du collectif. Après s’être très tôt tourné vers l’écriture et 
 la littérature\, il développe un cinéma sensible où le réel se teinte
  de poésie. Avec son premier film\, Jireh Gospel\, une famille de chœur
  (ONF\, 2025)\, il propose un regard immersif et vibrant sur la foi et la
  musique comme espaces de communion et de résilience collective.\n\nSensi
 ble aux luttes sociales des personnes afrodescendantes\, Maryse Legagneur
  signe des œuvres qui dénoncent l’injustice\, le racisme et l’oppre
 ssion. C’était le cas d’Au nom de la mère et du fils (ONF\, 2005) 
 et\, plus récemment\, de son premier long métrage de fiction\, Le dern
 ier repas (ACPAV)\, qui a reçu plusieurs prix. Elle termine actuellemen
 t le long métrage documentaire Konbit à l’ONF\, dans lequel elle exp
 lore le rapport à la terre des personnes afrodescendantes.\n\n&nbsp\;
ATTACH;FMTTYPE=image/jpeg:https://evenements.onf.ca/wp-content/uploads/202
 6/01/1447_COM_Black-History-Month_MHDN_1920x1200_FR_V1-1.png
LOCATION:Espace ONF\, 1500\, rue Balmoral\, Montréal\, Québec\, H3A 0H3\,
  Canada
GEO:45.507553;-73.568328
X-APPLE-STRUCTURED-LOCATION;VALUE=URI;X-ADDRESS=1500\, rue Balmoral\, Montr
 éal\, Québec\, H3A 0H3\, Canada;X-APPLE-RADIUS=100;X-TITLE=Espace ONF:ge
 o:45.507553,-73.568328
END:VEVENT
BEGIN:VTIMEZONE
TZID:America/New_York
X-LIC-LOCATION:America/New_York
BEGIN:STANDARD
DTSTART:20251102T010000
TZOFFSETFROM:-0400
TZOFFSETTO:-0500
TZNAME:EST
END:STANDARD
END:VTIMEZONE
END:VCALENDAR