BEGIN:VCALENDAR
VERSION:2.0
PRODID:-//wp-events-plugin.com//7.2.3.1//EN
TZID:America/New_York
X-WR-TIMEZONE:America/New_York
BEGIN:VEVENT
UID:1841@evenements.onf.ca
DTSTART;TZID=America/New_York:20250830T170000
DTEND;TZID=America/New_York:20250830T193000
DTSTAMP:20250826T123304Z
URL:https://evenements.onf.ca/evenements/en-marche-lamour-et-la-resistance
 -queers-fierte-de-quebec/
SUMMARY:En Marche\; L'amour et La Résistance Queers - Fierté de Québec
DESCRIPTION:Fierté de Québec présente En marche: l'amour et la résistan
 ce queers\, en collaboration avec Fierté Montréal et image+nation.\n\nPo
 ur en savoir plus : accueil - Fierté de Québec\n\nNoam Gonick\, 2025\n96
  minutes\nVersion originale anglaise\, sous-titres français\n\nEn marche 
 : l’amour et la résistance queers retrace les moments décisifs qui on
 t mené à l’émergence du mouvement 2ELGBTQIA+ au Canada\, et rend homm
 age aux militantes et militants dont les actes de résistance nous ont val
 u nos droits actuels. À l’aide d’images d’archives rarement vues et
  de témoignages\, le film entraîne le public en première ligne du comba
 t. Des descentes de police jusqu’aux premiers spectacles de drag queens\
 , et des communautés qui s’organisent jusqu’à la Chambre des commune
 s\, l’histoire complexe de la diversité canadienne se dessine sous nos 
 yeux. Le récit de ces jalons déterminants illustre la puissance de l’a
 ction collective\, mais nous rappelle également que des droits acquis de 
 haute lutte peuvent aisément nous être retirés. C’est dire qu’il s
 ’agit là d’un documentaire essentiel pour l’ensemble des Canadienne
 s et Canadiens. Sans compromis\, audacieux\, exaspérant\, porteur d’esp
 oir\, En marche : l’amour et la résistance queers raconte un chapitre c
 apital de l’histoire queer.\n\n[embed]https://vimeo.com/1080646817[/embe
 d]
ATTACH;FMTTYPE=image/jpeg:https://evenements.onf.ca/wp-content/uploads/202
 4/11/Parade_1-2.jpg
CATEGORIES:Projections
LOCATION:Cinéma Beaumont\,  541 Rue Saint-Vallier E\, Québec\, QC\, G1K 3
 P9\, Canada
GEO:46.8128;-71.221284
X-APPLE-STRUCTURED-LOCATION;VALUE=URI;X-ADDRESS= 541 Rue Saint-Vallier E\, 
 Québec\, QC\, G1K 3P9\, Canada;X-APPLE-RADIUS=100;X-TITLE=Cinéma Beaumon
 t:geo:46.8128,-71.221284
END:VEVENT
BEGIN:VTIMEZONE
TZID:America/New_York
X-LIC-LOCATION:America/New_York
BEGIN:DAYLIGHT
DTSTART:20250309T030000
TZOFFSETFROM:-0500
TZOFFSETTO:-0400
TZNAME:EDT
END:DAYLIGHT
END:VTIMEZONE
END:VCALENDAR