BEGIN:VCALENDAR
VERSION:2.0
PRODID:-//wp-events-plugin.com//7.2.3.1//EN
TZID:America/New_York
X-WR-TIMEZONE:America/New_York
BEGIN:VEVENT
UID:1873@evenements.onf.ca
DTSTART;TZID=America/New_York:20251105T190000
DTEND;TZID=America/New_York:20251105T190000
DTSTAMP:20251009T150529Z
URL:https://evenements.onf.ca/evenements/face-a-face-a-la-maison-de-la-cul
 ture-de-notre-dame-de-grace/
SUMMARY:Face-à-Face à la maison de la culture de Notre-dame-de-Grâce
DESCRIPTION:Le 5 novembre à 19h\, la maison de la culture Notre-Dame-de-Gr
 âce présentera gratuitement le film Face-à-face.\n\nLa projection sera 
 suivie d'une discussion.\n\nPlus d'informations : Face-à-face - ONF - Cin
 éclub Panorama | Ville de Montréal\n\nFace-à-face |Christopher Auchter 
 |2024 | 94 min | Documentaire | anglais sous-titré en français\n\n\nTir
 ée de plus d’une centaine d’heures d’archives inédites\, cette chr
 onique captivante reconstitue un épisode décisif et méconnu de la rési
 stance autochtone\, lorsque la Nation Haïda s’est dressée contre l’o
 ccupation coloniale.\n\nhttps://www.youtube.com/watch?v=rrGOfkmLTBM\n\n
ATTACH;FMTTYPE=image/jpeg:https://evenements.onf.ca/wp-content/uploads/202
 5/10/Stand_FRE_EPK_Header_1440x810.jpg
CATEGORIES:Événement gratuit,Projections
LOCATION:Maison de la culture Notre Dame-de-Grâce\, 3755 Rue Botrel\, Mont
 réal\, Québec\, H4A 3G8\, Canada
GEO:45.475582;-73.614368
X-APPLE-STRUCTURED-LOCATION;VALUE=URI;X-ADDRESS=3755 Rue Botrel\, Montréal
 \, Québec\, H4A 3G8\, Canada;X-APPLE-RADIUS=100;X-TITLE=Maison de la cult
 ure Notre Dame-de-Grâce:geo:45.475582,-73.614368
END:VEVENT
BEGIN:VTIMEZONE
TZID:America/New_York
X-LIC-LOCATION:America/New_York
BEGIN:STANDARD
DTSTART:20251102T010000
TZOFFSETFROM:-0400
TZOFFSETTO:-0500
TZNAME:EST
END:STANDARD
END:VTIMEZONE
END:VCALENDAR