BEGIN:VCALENDAR
VERSION:2.0
PRODID:-//wp-events-plugin.com//7.2.3.1//EN
TZID:America/New_York
X-WR-TIMEZONE:America/New_York
BEGIN:VEVENT
UID:1861@evenements.onf.ca
DTSTART;TZID=America/New_York:20250930T140000
DTEND;TZID=America/New_York:20250930T160000
DTSTAMP:20250826T200549Z
URL:https://evenements.onf.ca/evenements/face-a-face-bibliotheque-de-la-vi
 lle-de-saint-lambert/
SUMMARY:Face-à-Face - Bibliothèque de la ville de Saint-Lambert
DESCRIPTION:Dans le cadre du programme L’ONF EN BIBLIO\,  la Bibliothèq
 ue de la ville de Saint-Lambert présentera Face-à-Face.\n\nFace-à-Face 
 | Cinéaste: Christopher Auchter | 2024 | 95 min\n\nEn 1985\, à Haida Gw
 aii\, un groupe d’Autochtones se dressent contre l’occupation colonial
 e et exigent l’arrêt des coupes à blanc qui ravagent leur territoire. 
 Quarante ans plus tard\, à l’aide de plus d’une centaine d’heures d
 ’archives inédites\, le réalisateur haïda Christopher Auchter ressus
 cite cet épisode méconnu de la résistance autochtone\, qui a jeté les 
 bases des revendications territoriales contemporaines. Saisissant avec acu
 ité les moments de tension comme de douceur\, Face-à-face raconte comm
 ent la Nation Haïda a pris position pour l’avenir.\n\nhttps://youtu.be/
 rrGOfkmLTBM\n\n_________\nPROJECTION GRATUITE\nPour plus de renseignements
 \, consulter la page de l’événement sur le site de la bibliothèque.
ATTACH;FMTTYPE=image/jpeg:https://evenements.onf.ca/wp-content/uploads/202
 3/10/Stand_FRE_EPK_Header_1440x810.jpg
CATEGORIES:Événement gratuit,L'ONF EN BIBLIO,Projections
LOCATION:Bibliothèque de Saint-Lambert\, 490 avenue Mercille\, Saint-Lambe
 rt\, QC\, J4P 2L5\, Canada
GEO:45.50331;-73.510311
X-APPLE-STRUCTURED-LOCATION;VALUE=URI;X-ADDRESS=490 avenue Mercille\, Saint
 -Lambert\, QC\, J4P 2L5\, Canada;X-APPLE-RADIUS=100;X-TITLE=Bibliothèque 
 de Saint-Lambert:geo:45.50331,-73.510311
END:VEVENT
BEGIN:VTIMEZONE
TZID:America/New_York
X-LIC-LOCATION:America/New_York
BEGIN:DAYLIGHT
DTSTART:20250309T030000
TZOFFSETFROM:-0500
TZOFFSETTO:-0400
TZNAME:EDT
END:DAYLIGHT
END:VTIMEZONE
END:VCALENDAR