BEGIN:VCALENDAR
VERSION:2.0
PRODID:-//wp-events-plugin.com//7.2.3.1//EN
TZID:America/New_York
X-WR-TIMEZONE:America/New_York
BEGIN:VEVENT
UID:1139@evenements.onf.ca
DTSTART;TZID=America/New_York:20220814T000000
DTEND;TZID=America/New_York:20220818T000000
DTSTAMP:20220704T164609Z
URL:https://evenements.onf.ca/evenements/foufou/
SUMMARY:Foufou
DESCRIPTION:Présentation publique gratuite du court-métrage ONF  Foufou\
 , en ouverture de Chantez 2\, dans différents parcs de\nl'arrondissement 
 Anjou :\n\n 	10 juillet: Parc de Talcy\n 	11 juillet: Parc des Roseraies\n
  	12 juillet: Parc de Verdelles\n 	14 juillet: Parc Lucie-Bruneau\n\n 	\n\
 n 	\n\n\n\n\n\nFoufou | Sara Guindon  | 2009 | 1 min\n\nCourt métrage d'
 animation\, ou un groupe d’amis festoient et dansent\, lorsqu’ils pren
 nent conscience qu’une tête énorme et menaçante les observe. Quand ce
 tte tête interrompt leur fête\, ils réagissent de façon étonnante : i
 ls lui font vivre un état de conscience modifié.\n\nCe film a été prod
 uit dans le cadre du Hothouse 5\, stage de\nformation offert aux cinéaste
 s de la relève par le Studio\nd’animation de Montréal. Le thème centr
 al de cette cinquième\nédition était «La fois où j’ai change d’id
 ée».\n\n&nbsp\;\n\n&nbsp\;\n\n&nbsp\;\n\n&nbsp\;\n\n&nbsp\;
ATTACH;FMTTYPE=image/jpeg:https://evenements.onf.ca/wp-content/uploads/202
 2/07/Picture3-1.jpg
CATEGORIES:Événement gratuit,Projections
END:VEVENT
BEGIN:VTIMEZONE
TZID:America/New_York
X-LIC-LOCATION:America/New_York
BEGIN:DAYLIGHT
DTSTART:20220313T030000
TZOFFSETFROM:-0500
TZOFFSETTO:-0400
TZNAME:EDT
END:DAYLIGHT
END:VTIMEZONE
END:VCALENDAR