BEGIN:VCALENDAR
VERSION:2.0
PRODID:-//wp-events-plugin.com//7.2.3.1//EN
TZID:America/New_York
X-WR-TIMEZONE:America/New_York
BEGIN:VEVENT
UID:1901@evenements.onf.ca
DTSTART;TZID=America/New_York:20260310T000000
DTEND;TZID=America/New_York:20260311T000000
DTSTAMP:20260219T211204Z
URL:https://evenements.onf.ca/evenements/francofievre/
SUMMARY:Francofièvre
DESCRIPTION:L'association jeunesse fransaskoise présentera les programmes 
 3\, 4 et 5 des Rendez-Vous de la Francophonie\, dans le cadre de la Franco
 fièvre le 10 et 11 mars de 10h à 12h.\n\nFrancofièvre | Association Jeu
 nes 3\n\n&nbsp\;
ATTACH;FMTTYPE=image/jpeg:https://evenements.onf.ca/wp-content/uploads/202
 4/10/orteils-talons-XL-1.jpg
LOCATION:Association Jeunesse Fransaskoise\, 2320 Louise Ave\, Saskatoon\, 
 S7J 2E5\, Canada
GEO:52.099587;-106.625146
X-APPLE-STRUCTURED-LOCATION;VALUE=URI;X-ADDRESS=2320 Louise Ave\, Saskatoon
 \, S7J 2E5\, Canada;X-APPLE-RADIUS=100;X-TITLE=Association Jeunesse Fransa
 skoise:geo:52.099587,-106.625146
END:VEVENT
BEGIN:VTIMEZONE
TZID:America/New_York
X-LIC-LOCATION:America/New_York
BEGIN:DAYLIGHT
DTSTART:20260308T030000
TZOFFSETFROM:-0500
TZOFFSETTO:-0400
TZNAME:EDT
END:DAYLIGHT
END:VTIMEZONE
END:VCALENDAR