BEGIN:VCALENDAR
VERSION:2.0
PRODID:-//wp-events-plugin.com//7.2.3.1//EN
TZID:America/New_York
X-WR-TIMEZONE:America/New_York
BEGIN:VEVENT
UID:1877@evenements.onf.ca
DTSTART;TZID=America/New_York:20251203T000000
DTEND;TZID=America/New_York:20251203T000000
DTSTAMP:20251009T150437Z
URL:https://evenements.onf.ca/evenements/graver-lhomme-a-la-maison-de-la-c
 ulture-cote-des-neiges/
SUMMARY:Graver l'homme à la Maison de la culture Côte-des-Neiges
DESCRIPTION:Le mercredi 3 décembre à 19h30 la maison de la culture Côte-
 des-Neiges présentera gratuitement Graver l'homme : arrêt sur Pierre Hé
 bert de Loïc Darses.\n\nLa projection sera suivie d'une discussion avec l
 e réalisateur.\n\nPour plus d'informations : Graver l’homme : arrêt su
 r Pierre Hébert - Loïc Darses - ONF | Ville de Montréal\n\nGraver l'hom
 me : arrêt sur Pierre Hébert | Loïc Darses  | 2024 | 75 min | Docum
 entaire  | Version originale française\n\nÀ l’aide d’un travail sen
 sible en noir et blanc transpercé d’éclats animés\, Graver l’homme
  : arrêt sur Pierre Hébert suit le fil d’Ariane de la gravure sur pe
 llicule pour nous transporter dans le labyrinthe inspirant que forment la 
 vie et l’œuvre de l’illustre cinéaste d’animation Pierre Hébert. 
 Loïc Darses grave l’empreinte d’un homme d’exception qui\, encore a
 ujourd’hui\, persiste à créer pour mieux transmettre de nouvelles form
 es de vie.\n\nGraver l'homme : arrêt sur Pierre Hébert - (Bande-annonce 
 01m45s) sur Vimeo
ATTACH;FMTTYPE=image/jpeg:https://evenements.onf.ca/wp-content/uploads/202
 4/08/Principal-ONF-GraverLHomme-Affiche-1440x810_FR.png
CATEGORIES:Événement gratuit,Projections
LOCATION:Maison de la culture Côte-des-Neiges\, 5290 Ch. de la Côte-des-N
 eiges\, Montréal\, Québec\, H3T 1Y2\, Canada
GEO:45.496062;-73.622118
X-APPLE-STRUCTURED-LOCATION;VALUE=URI;X-ADDRESS=5290 Ch. de la Côte-des-Ne
 iges\, Montréal\, Québec\, H3T 1Y2\, Canada;X-APPLE-RADIUS=100;X-TITLE=M
 aison de la culture Côte-des-Neiges:geo:45.496062,-73.622118
END:VEVENT
BEGIN:VTIMEZONE
TZID:America/New_York
X-LIC-LOCATION:America/New_York
BEGIN:STANDARD
DTSTART:20251102T010000
TZOFFSETFROM:-0400
TZOFFSETTO:-0500
TZNAME:EST
END:STANDARD
END:VTIMEZONE
END:VCALENDAR