BEGIN:VCALENDAR
VERSION:2.0
PRODID:-//wp-events-plugin.com//7.2.3.1//EN
TZID:America/New_York
X-WR-TIMEZONE:America/New_York
BEGIN:VEVENT
UID:1862@evenements.onf.ca
DTSTART;TZID=America/New_York:20250929T130000
DTEND;TZID=America/New_York:20250929T143000
DTSTAMP:20250828T183808Z
URL:https://evenements.onf.ca/evenements/lecon-de-cinema-avec-alex-boya/
SUMMARY:Leçon de cinéma avec Alex Boya
DESCRIPTION:Nous avons le plaisir de vous inviter à une leçon de cinéma 
 préparée par le cinéaste Alex Boya.\nMontréalais d’adoption\, l’an
 imateur et cinéaste d’origine bulgare Alex Boya se distingue par ses r
 écits surréalistes dessinés à la main.  À la suite de sa participati
 on à la 10e édition du programme de mentorat Hothouse de l’ONF\, il a 
 poursuivi le développement de son style singulier avec Turbine (2018).\n
 \nCette leçon de cinéma vous plongera dans les coulisses — ou plutôt 
 la cuisine — de Bread Will Walk. Le créateur y dévoilera certains des 
 aspects uniques et étonnants de la recette artistique et technologique de
 rrière ce court métrage\, présenté en première mondiale à la Quinzai
 ne des réalisateurs à Cannes.\n\nLe nombre de places étant limité\, ve
 uillez confirmer votre présence par courriel avant le dimanche 28 septe
 mbre à D.Forget@nfb.ca.\n\n*Cette leçon se déroulera en anglais.
ATTACH;FMTTYPE=image/jpeg:https://evenements.onf.ca/wp-content/uploads/202
 5/08/1-BreadWillWalk_10014916_72dpi.jpg
CATEGORIES:Événement gratuit,Les rencontres ONF
LOCATION:Office national du film du Canada – salle Alanis-Obomsawin\, 150
 1\, rue De Bleury\, Montréal\, Québec\, H3A 0H3\, Canada
GEO:45.507087;-73.568322
X-APPLE-STRUCTURED-LOCATION;VALUE=URI;X-ADDRESS=1501\, rue De Bleury\, Mont
 réal\, Québec\, H3A 0H3\, Canada;X-APPLE-RADIUS=100;X-TITLE=Office natio
 nal du film du Canada – salle Alanis-Obomsawin:geo:45.507087,-73.568322
END:VEVENT
BEGIN:VTIMEZONE
TZID:America/New_York
X-LIC-LOCATION:America/New_York
BEGIN:DAYLIGHT
DTSTART:20250309T030000
TZOFFSETFROM:-0500
TZOFFSETTO:-0400
TZNAME:EDT
END:DAYLIGHT
END:VTIMEZONE
END:VCALENDAR