BEGIN:VCALENDAR
VERSION:2.0
PRODID:-//wp-events-plugin.com//7.2.3.1//EN
TZID:America/New_York
X-WR-TIMEZONE:America/New_York
BEGIN:VEVENT
UID:1885@evenements.onf.ca
DTSTART;TZID=America/New_York:20260211T180000
DTEND;TZID=America/New_York:20260211T180000
DTSTAMP:20260128T190632Z
URL:https://evenements.onf.ca/evenements/lecon-de-cinema-de-bogdan-anifran
 i-fedach-et-ian-keteku/
SUMMARY:Leçon de cinéma de Bogdan Anifrani-Fedach et Ian Keteku
DESCRIPTION:ÉLEVONS NOS VOIX ENSEMBLE\n\nÀ l’occasion du Mois de l’h
 istoire des Noirs\, en février\, l’Office national du film du Canada 
 proposera des événements gratuits qui se tiendront à l’Espace ONF 
 et à la salle Alanis-Obomsawin\, à l’Îlot Balmoral\, devant la place
  des Festivals. Ce mois\, sur le thème Élevons nos voix ensemble\, sera
  également souligné sur les plateformes de l’ONF avec une chaîne t
 hématique consacrée aux communautés noires.\n\n \n\nMercredi 11 févr
 ier de 18 h à 20 h 30  \n\nLeçon de cinéma de Bogdan Anifrani-Fed
 ach et Ian Keteku\, coréalisateurs du film d’animation À nos futurs a
 ncêtres\, suivie d’un événement festif\n\nSalle Alanis-Obomsawin\, e
 ntrée gratuite sur réservation\, événement bilingue et présentation d
 e la leçon en anglais\n\nVoyez le film avant sa sortie\, à venir en 2026
 \, et rencontrez ses créateurs : Bogdan Anifrani-Fedach\, cinéaste d
 ’origine togolaise\, ukrainienne et canadienne\, illustrateur et ancien 
 participant au programme Alambic* de l’ONF\, et Ian Keteku\, cinéaste\
 , poète et éducateur d’origine ghanéenne et canadienne. Zootrope impr
 imé en 3D\, découpages\, encre et argile sur verre\, sable\, peinture…
  Les coréalisateurs discuteront de leur parcours créatif et vous feront 
 découvrir les 10 techniques d’animation utilisées dans leur nouveau fi
 lm d’inspiration afrofuturiste\, À nos futurs ancêtres\, une allégor
 ie sur la résilience qui défie les millénaires.\n\nRestez avec nous apr
 ès la leçon de cinéma pour une célébration conviviale avec des membr
 es de l’équipe du film à l’Espace ONF\, où vous pourrez échanger 
 entre deux bouchées.\n\n*Alambic : un laboratoire de création de l’Un
 ité d’animation francophone de l’ONF pour les cinéastes de la relèv
 e.\n\n
ATTACH;FMTTYPE=image/jpeg:https://evenements.onf.ca/wp-content/uploads/202
 6/01/1447_COM_Black-History-Month_MHDN_1920x1200_FR_V1-1.png
LOCATION:Office national du film du Canada – salle Alanis-Obomsawin\, 150
 1\, rue De Bleury\, Montréal\, Québec\, H3A 0H3\, Canada
GEO:45.507087;-73.568322
X-APPLE-STRUCTURED-LOCATION;VALUE=URI;X-ADDRESS=1501\, rue De Bleury\, Mont
 réal\, Québec\, H3A 0H3\, Canada;X-APPLE-RADIUS=100;X-TITLE=Office natio
 nal du film du Canada – salle Alanis-Obomsawin:geo:45.507087,-73.568322
END:VEVENT
BEGIN:VTIMEZONE
TZID:America/New_York
X-LIC-LOCATION:America/New_York
BEGIN:STANDARD
DTSTART:20251102T010000
TZOFFSETFROM:-0400
TZOFFSETTO:-0500
TZNAME:EST
END:STANDARD
END:VTIMEZONE
END:VCALENDAR