BEGIN:VCALENDAR
VERSION:2.0
PRODID:-//wp-events-plugin.com//7.2.3.1//EN
TZID:America/New_York
X-WR-TIMEZONE:America/New_York
BEGIN:VEVENT
UID:1878@evenements.onf.ca
DTSTART;TZID=America/New_York:20251118T000000
DTEND;TZID=America/New_York:20251118T000000
DTSTAMP:20251009T154940Z
URL:https://evenements.onf.ca/evenements/les-enfants-du-large-au-cine-club
 -de-ludem/
SUMMARY:Les enfants du large au Ciné-club de l'UdeM
DESCRIPTION:Le 18 novembre le Ciné-club de l'Université de Montréal pré
 sentera le film Les enfants du large de Virginia Tangvald.\n\nPour plus d'
 informations : Cinéma | Les enfants du large\n\nLes enfants du large | V
 irginia Tangvald | 1h37 | 2024 | Français\n\nSur les traces de son frère
  disparu en mer\, Virginia Tangvald offre\, avec Les enfants du large\, 
 une enquête captivante sur les sombres secrets de sa famille.  Remettant
  en question la vie idyllique légendaire de son père\, le navigateur Pet
 er Tangvald\, sa quête déboulonne le mythe de la liberté absolue et por
 te l’espoir d’avoir brisé un cycle toxique.
ATTACH;FMTTYPE=image/jpeg:https://evenements.onf.ca/wp-content/uploads/202
 5/10/APPROB_LesEnfantDuLarge_EPKweb1440x810FRA_v01.jpg
CATEGORIES:Projections
LOCATION:Pavillon J.-A.-DeSève de l'Université de Montréal - Centre d'es
 sai\, 2332 boul. Édouard-Montpetit\, 6e étage\, Montreal\, Québec\, H3T
  1J4\, Montreal\, Canada
GEO:45.507134;-73.614418
X-APPLE-STRUCTURED-LOCATION;VALUE=URI;X-ADDRESS=2332 boul. Édouard-Montpet
 it\, 6e étage\, Montreal\, Québec\, H3T 1J4\, Montreal\, Canada;X-APPLE-
 RADIUS=100;X-TITLE=Pavillon J.-A.-DeSève de l'Université de Montréal - 
 Centre d'essai:geo:45.507134,-73.614418
END:VEVENT
BEGIN:VTIMEZONE
TZID:America/New_York
X-LIC-LOCATION:America/New_York
BEGIN:STANDARD
DTSTART:20251102T010000
TZOFFSETFROM:-0400
TZOFFSETTO:-0500
TZNAME:EST
END:STANDARD
END:VTIMEZONE
END:VCALENDAR