BEGIN:VCALENDAR
VERSION:2.0
PRODID:-//wp-events-plugin.com//7.2.3.1//EN
TZID:America/New_York
X-WR-TIMEZONE:America/New_York
BEGIN:VEVENT
UID:1844@evenements.onf.ca
DTSTART;TZID=America/New_York:20250819T000000
DTEND;TZID=America/New_York:20250819T000000
DTSTAMP:20250812T203501Z
URL:https://evenements.onf.ca/evenements/les-perceides/
SUMMARY:Les Percéides
DESCRIPTION:Dans le cadre des Percéides\, Hypersensible de Martine Froissa
 rd sera diffusé à la Vieille Usine de l’Anse-à-Beaufils le 19 août.\
 n\nPour plus d'informations : Hypersensible - Les Percéides
ATTACH;FMTTYPE=image/jpeg:https://evenements.onf.ca/wp-content/uploads/202
 5/08/Hypersensible_1440x810_FR-1.jpg
CATEGORIES:Événement payant,Projections
LOCATION:La Vieille Usine de l'Anse-à-Beaufils\, 55 Rue à Bonfils\, Cap-d
 'Espoir\, QC\, G0C 1G0\, Canada
GEO:48.472602;-64.308422
X-APPLE-STRUCTURED-LOCATION;VALUE=URI;X-ADDRESS=55 Rue à Bonfils\, Cap-d'E
 spoir\, QC\, G0C 1G0\, Canada;X-APPLE-RADIUS=100;X-TITLE=La Vieille Usine 
 de l'Anse-à-Beaufils:geo:48.472602,-64.308422
END:VEVENT
BEGIN:VTIMEZONE
TZID:America/New_York
X-LIC-LOCATION:America/New_York
BEGIN:DAYLIGHT
DTSTART:20250309T030000
TZOFFSETFROM:-0500
TZOFFSETTO:-0400
TZNAME:EDT
END:DAYLIGHT
END:VTIMEZONE
END:VCALENDAR