BEGIN:VCALENDAR
VERSION:2.0
PRODID:-//wp-events-plugin.com//7.2.3.1//EN
TZID:America/New_York
X-WR-TIMEZONE:America/New_York
BEGIN:VEVENT
UID:1866@evenements.onf.ca
DTSTART;TZID=America/New_York:20250925T190000
DTEND;TZID=America/New_York:20250925T190000
DTSTAMP:20250919T153152Z
URL:https://evenements.onf.ca/evenements/les-perdants-_-alma/
SUMMARY:Les perdants _ Alma
DESCRIPTION:Le film Les perdants sera projeté en plein air par le comité 
 régional du Collectif pour un Québec sans pauvreté – Saguenay–Lac-S
 aint-Jean\, en partenariat avec l'Office national du film et la bibliothè
 que d'Alma.\n Date : Jeudi 25 septembre\n Heure : 19 h\n Lieu : Stationnem
 ent de la Bibliothèque d'Alma\n En présence de la réalisatrice\, Jenny 
 Cartwright\n\nPour plus d'information : Facebook\n\n\n\n\nLes perdants\n\n
 \nJenny Cartwright\n\n2025 1 h 37 min Documentaire \n\n\n\n\n\n\nQue v
 aut un vote blanc ? Plongez au cœur du système électoral québécois po
 ur en découvrir les rouages.\n\n
ATTACH;FMTTYPE=image/jpeg:https://evenements.onf.ca/wp-content/uploads/202
 5/01/LES-PERDANTS_3840x2160-scaled.jpg
CATEGORIES:En plein air,Événement gratuit,Projections
LOCATION:Bibliothèque d'Alma\, 140 rue Saint-Joseph Sud\, Alma\, QC\, G8B 
 3R1\, Canada
GEO:48.54969;-71.653306
X-APPLE-STRUCTURED-LOCATION;VALUE=URI;X-ADDRESS=140 rue Saint-Joseph Sud\, 
 Alma\, QC\, G8B 3R1\, Canada;X-APPLE-RADIUS=100;X-TITLE=Bibliothèque d'Al
 ma:geo:48.54969,-71.653306
END:VEVENT
BEGIN:VTIMEZONE
TZID:America/New_York
X-LIC-LOCATION:America/New_York
BEGIN:DAYLIGHT
DTSTART:20250309T030000
TZOFFSETFROM:-0500
TZOFFSETTO:-0400
TZNAME:EDT
END:DAYLIGHT
END:VTIMEZONE
END:VCALENDAR