BEGIN:VCALENDAR
VERSION:2.0
PRODID:-//wp-events-plugin.com//7.2.3.1//EN
TZID:America/New_York
X-WR-TIMEZONE:America/New_York
BEGIN:VEVENT
UID:1869@evenements.onf.ca
DTSTART;TZID=America/New_York:20251018T193000
DTEND;TZID=America/New_York:20251018T203000
DTSTAMP:20250929T193139Z
URL:https://evenements.onf.ca/evenements/les-perdants-au-bal-maski/
SUMMARY:Les perdants au Bal Maski
DESCRIPTION:Le Bal Maski est heureux d’accueillir la réalisatrice Jenny 
 Cartwright qui présentera son film «Les Perdants» (2025) au Bal Maski\,
  le samedi 18 octobre\, 19h30.\n\nPour plus d'information Projection «Les
  Perdants» en présence de la réalisatrice - Culture et Patrimoine de la
  MRC de D'Autray\nLes perdants\nJenny Cartwright\n2025 | 98 min\nDocument
 aire\nLes perdants suit trois personnes candidates aux élections provin
 ciales d’octobre 2022.\n\nLeur point commun : une défaite assurée.\n\
 nÀ travers leurs campagnes respectives\, le film décortique le système 
 électoral et ses nombreux dysfonctionnements : difficultés supplémenta
 ires pour les femmes et les personnes racisées\, mode de scrutin déficie
 nt\, financement inéquitable\, poids des médias et des sondages…\n\nDa
 ns son documentaire\, Jenny Cartwright jette un regard caustique et décap
 ant sur un système politique qui n’offre pas les mêmes chances à tout
 es et tous. Si la course semble perdue d’avance pour une majorité des c
 oureurs\, c’est que nous sommes les perdants du jeu électoral.
ATTACH;FMTTYPE=image/jpeg:https://evenements.onf.ca/wp-content/uploads/202
 5/01/LES-PERDANTS_3840x2160-scaled.jpg
CATEGORIES:Projections
LOCATION:Café Coop Bal Maski\, 401 rue Maskinongé\, Saint-Gabriel\, J0K 2
 N0\, Canada
GEO:46.302147;-73.393981
X-APPLE-STRUCTURED-LOCATION;VALUE=URI;X-ADDRESS=401 rue Maskinongé\, Saint
 -Gabriel\, J0K 2N0\, Canada;X-APPLE-RADIUS=100;X-TITLE=Café Coop Bal Mask
 i:geo:46.302147,-73.393981
END:VEVENT
BEGIN:VTIMEZONE
TZID:America/New_York
X-LIC-LOCATION:America/New_York
BEGIN:DAYLIGHT
DTSTART:20250309T030000
TZOFFSETFROM:-0500
TZOFFSETTO:-0400
TZNAME:EDT
END:DAYLIGHT
END:VTIMEZONE
END:VCALENDAR