BEGIN:VCALENDAR
VERSION:2.0
PRODID:-//wp-events-plugin.com//7.2.3.1//EN
TZID:America/New_York
X-WR-TIMEZONE:America/New_York
BEGIN:VEVENT
UID:1828@evenements.onf.ca
DTSTART;TZID=America/New_York:20250521T133000
DTEND;TZID=America/New_York:20250521T150000
DTSTAMP:20250502T190451Z
URL:https://evenements.onf.ca/evenements/les-perdants-bibliotheque-le-surv
 enant-sorel-tracy/
SUMMARY:Les perdants - Bibliothèque Le Survenant (Sorel-Tracy)
DESCRIPTION:Dans le cadre du programme L'ONF EN BIBLIO\, la Bibliothèque L
 e Survenant présentera  Les perdants.\n\nLes perdants | Cinéaste: Jenn
 y Cartwright |  2025 | 98 min\n\n\nLes perdants suit trois personnes 
 candidates aux élections provinciales d’octobre 2022.\n\nLeur point com
 mun : une défaite assurée.\n\nÀ travers leurs campagnes respectives\, 
 le film décortique le système électoral et ses nombreux dysfonctionneme
 nts : difficultés supplémentaires pour les femmes et les personnes raci
 sées\, mode de scrutin déficient\, financement inéquitable\, poids des 
 médias et des sondages…\n\nDans son documentaire\, Jenny Cartwright jet
 te un regard caustique et décapant sur un système politique qui n’offr
 e pas les mêmes chances à toutes et tous. Si la course semble perdue d
 ’avance pour une majorité des coureurs\, c’est que nous sommes les p
 erdants du jeu électoral.\n\n\nLES PERDANTS | Bande-annonce officielle |
  Office national du film du Canada\n_________\nPROJECTION GRATUITE\nPour p
 lus de renseignements\, consulter la page de l’événement sur le site 
 de la bibliothèque.
ATTACH;FMTTYPE=image/jpeg:https://evenements.onf.ca/wp-content/uploads/202
 5/01/LES-PERDANTS_3840x2160-scaled.jpg
CATEGORIES:Événement gratuit,L'ONF EN BIBLIO,Projections
LOCATION:Bibliothèque Le Survenant (Sorel-Tracy)\, 145 rue George\, Sorel-
 Tracy\, Québec\, J3P 1C7\, Canada
GEO:46.045929;-73.109771
X-APPLE-STRUCTURED-LOCATION;VALUE=URI;X-ADDRESS=145 rue George\, Sorel-Trac
 y\, Québec\, J3P 1C7\, Canada;X-APPLE-RADIUS=100;X-TITLE=Bibliothèque Le
  Survenant (Sorel-Tracy):geo:46.045929,-73.109771
END:VEVENT
BEGIN:VTIMEZONE
TZID:America/New_York
X-LIC-LOCATION:America/New_York
BEGIN:DAYLIGHT
DTSTART:20250309T030000
TZOFFSETFROM:-0500
TZOFFSETTO:-0400
TZNAME:EDT
END:DAYLIGHT
END:VTIMEZONE
END:VCALENDAR