BEGIN:VCALENDAR
VERSION:2.0
PRODID:-//wp-events-plugin.com//7.2.3.1//EN
TZID:America/New_York
X-WR-TIMEZONE:America/New_York
BEGIN:VEVENT
UID:1870@evenements.onf.ca
DTSTART;TZID=America/New_York:20251019T000000
DTEND;TZID=America/New_York:20251019T000000
DTSTAMP:20250929T195520Z
URL:https://evenements.onf.ca/evenements/loca-a-cinemental/
SUMMARY:Loca à Cinémental
DESCRIPTION:Le festival du film francophone du Manitoba Cinémental présen
 tera cette année Loca de Véronique Paquette dans le cadre de sa compéti
 tion de courts-métrages.\n\nPour plus d'informations : COMPÉTITION DE CO
 URTS-MÉTRAGES | CINÉMENTAL\n\n&nbsp\;\nLOCA\nVéronique Paquette\n2024 
 | 5 min\nAnimation à techniques mixtes utilisant le 2D numérique et anim
 ation à l'encre sur papier et sur verre\nUne silhouette féminine\, esqui
 ssée de fines lignes blanches\, se désagrège. La musique envoûtante de
  LOCA\, pièce musicale phare de l’âge d’or du tango argentin\, en
 traîne son corps dans une danse tourbillonnante. Un duo se forme. Les cor
 ps s’emboîtent en une fusion géométrique de noir et de blanc. Leur ab
 andon au mouvement se manifeste dans de généreuses vagues d’encre\, cr
 éant un spectacle visuel fascinant.
ATTACH;FMTTYPE=image/jpeg:https://evenements.onf.ca/wp-content/uploads/202
 4/01/LOCA_Web_1440x810.jpg
CATEGORIES:Festivals
LOCATION:Centre Culturel Franco-Manitobain (CCFM)\, 340 Boulevard Provenche
 r \, Winnipeg\, Manitoba\, R2H 0G7\, Winnipeg\, Canada
GEO:49.893882;-97.114152
X-APPLE-STRUCTURED-LOCATION;VALUE=URI;X-ADDRESS=340 Boulevard Provencher \,
  Winnipeg\, Manitoba\, R2H 0G7\, Winnipeg\, Canada;X-APPLE-RADIUS=100;X-TI
 TLE=Centre Culturel Franco-Manitobain (CCFM):geo:49.893882,-97.114152
END:VEVENT
BEGIN:VTIMEZONE
TZID:America/New_York
X-LIC-LOCATION:America/New_York
BEGIN:DAYLIGHT
DTSTART:20250309T030000
TZOFFSETFROM:-0500
TZOFFSETTO:-0400
TZNAME:EDT
END:DAYLIGHT
END:VTIMEZONE
END:VCALENDAR