BEGIN:VCALENDAR
VERSION:2.0
PRODID:-//wp-events-plugin.com//7.2.3.1//EN
TZID:America/New_York
X-WR-TIMEZONE:America/New_York
BEGIN:VEVENT
UID:1888@evenements.onf.ca
DTSTART;TZID=America/New_York:20260204T070000
DTEND;TZID=America/New_York:20260204T070000
DTSTAMP:20260128T202915Z
URL:https://evenements.onf.ca/evenements/love-moi-et-apres-coups-romane-ga
 rant-chartrand/
SUMMARY:Love-moi et Après-coups - Romane Garant Chartrand
DESCRIPTION:Le 4 février le film Après-Coups sera présenté lors d'une p
 rojection RIDM et CAM en tournée à la maisonde la culture Verdun.\n\nPlu
 s d'informations ici : Love-moi et Après-coups - Romane Garant Chartrand 
 | Ville de Montréal\n\n\nAprès-coups\n\n\nRomane Garant Chartrand\n\n20
 23 24 min Documentaire \n\n\n\n\n\n\nEntre les murs d’une maison d’
 hébergement\, des femmes se réunissent et dénoncent la violence qu’el
 les ont vécue afin de reprendre le pouvoir sur leur vie.
ATTACH;FMTTYPE=image/jpeg:https://evenements.onf.ca/wp-content/uploads/202
 3/10/apres-coups_epk.jpg
LOCATION:Quai 5160 - Maison de la culture de Verdun\, 5160 Boulevard LaSall
 e\, Verdun\, Québec\, H4H 1N8\, Verdun\, Canada
GEO:45.4536387;-73.56500690000001
X-APPLE-STRUCTURED-LOCATION;VALUE=URI;X-ADDRESS=5160 Boulevard LaSalle\, Ve
 rdun\, Québec\, H4H 1N8\, Verdun\, Canada;X-APPLE-RADIUS=100;X-TITLE=Quai
  5160 - Maison de la culture de Verdun:geo:45.4536387,-73.56500690000001
END:VEVENT
BEGIN:VTIMEZONE
TZID:America/New_York
X-LIC-LOCATION:America/New_York
BEGIN:STANDARD
DTSTART:20251102T010000
TZOFFSETFROM:-0400
TZOFFSETTO:-0500
TZNAME:EST
END:STANDARD
END:VTIMEZONE
END:VCALENDAR