BEGIN:VCALENDAR
VERSION:2.0
PRODID:-//wp-events-plugin.com//7.2.3.1//EN
TZID:America/New_York
X-WR-TIMEZONE:America/New_York
BEGIN:VEVENT
UID:1558@evenements.onf.ca
DTSTART;TZID=America/New_York:20240423T000000
DTEND;TZID=America/New_York:20240423T000000
DTSTAMP:20240417T232253Z
URL:https://evenements.onf.ca/evenements/malartic-7/
SUMMARY:Malartic
DESCRIPTION:Malartic | Nicolas Paquet | 2024 | 1 h 28\n\nDix ans après l
 ’ouverture de l’énorme mine d’or à ciel ouvert de Malartic\, le mi
 racle économique attendu n’est plus que mirage. Constatant l’écart c
 riant entre le déclin de la ville et la richesse de la compagnie minière
 \, le réalisateur Nicolas Paquet révèle les rouages d’un système d
 écisionnel opaque où la population citoyenne n’a pas voix au chapitre.
  Entre étude anthropologique et enquête au cœur du pouvoir\, Malartic
  pose la question universelle de la gestion démocratique du territoire.\
 n\n*Projection Q&amp\;A en présence du réalisateur Nicolas Paquet et de 
 la participante du film Geneviève Brisson\, le mardi 23 avril à 19 h 30.
 \nBILLETS\nhttps://vimeo.com/907472105?share=copy
ATTACH;FMTTYPE=image/jpeg:https://evenements.onf.ca/wp-content/uploads/202
 4/04/Malartic1440x810_FR.jpg
CATEGORIES:En salle,Événement payant,Projections
LOCATION:Cinéma Paraloeil\, 274 R. Michaud\, Rimouski\, Québec\, G5L 6A2\
 , Canada
GEO:48.442187;-68.52956
X-APPLE-STRUCTURED-LOCATION;VALUE=URI;X-ADDRESS=274 R. Michaud\, Rimouski\,
  Québec\, G5L 6A2\, Canada;X-APPLE-RADIUS=100;X-TITLE=Cinéma Paraloeil:g
 eo:48.442187,-68.52956
END:VEVENT
BEGIN:VTIMEZONE
TZID:America/New_York
X-LIC-LOCATION:America/New_York
BEGIN:DAYLIGHT
DTSTART:20240310T030000
TZOFFSETFROM:-0500
TZOFFSETTO:-0400
TZNAME:EDT
END:DAYLIGHT
END:VTIMEZONE
END:VCALENDAR