BEGIN:VCALENDAR
VERSION:2.0
PRODID:-//wp-events-plugin.com//7.2.3.1//EN
TZID:America/New_York
X-WR-TIMEZONE:America/New_York
BEGIN:VEVENT
UID:1831@evenements.onf.ca
DTSTART;TZID=America/New_York:20250505T173000
DTEND;TZID=America/New_York:20250505T190000
DTSTAMP:20250502T195724Z
URL:https://evenements.onf.ca/evenements/malartic-a-la-lethbridge-public-l
 ibrary/
SUMMARY:Malartic à la Lethbridge Public Library
DESCRIPTION:Dans le cadre du programme L’ONF EN BIBLIO\, la Lethbridge Pu
 blic Library présentera Malartic.\n\nMALARTIC | Nicolas Paquet | 2024 1 h
  28 min | version en français avec sous-titres en anglais\n\nDix ans apr
 ès l’ouverture à Malartic de la plus grosse mine d’or à ciel ouvert
  du Canada\, le miracle économique attendu s’avère-t-il un mirage ? 
 Après avoir documenté les espoirs de prospérité de la population local
 e dans La règle d’or (2010)\, le réalisateur Nicolas Paquet retourn
 e dans la petite communauté d’Abitibi pour constater l’écart criant 
 entre le déclin de la ville et la richesse inouïe de son « locataire
  ». Combinant une macro-analyse à des témoignages personnels\, il ré
 vèle les promesses trahies et les rouages d’un système à l’opacité
  déroutante. Entre étude anthropologique au long cours et enquête au c
 œur du pouvoir\, Malartic dissèque les liens entre sociétés privées
 \, administrations publiques et monde judiciaire\, un espace décisionnel 
 où la population citoyenne n’a pas voix au chapitre. Ce documentaire su
 r la faillite du droit et le déficit démocratique pose la question unive
 rselle de la gestion durable et juste du territoire.\n\nMalartic - (Bande-
 annonce)\n\n___________\n\nPROJECTION GRATUITE\n\nPour plus de renseigneme
 nts sur cet événement et pour vous inscrire à la projection\, veuillez 
 consulter la page de l'événement sur le site de la bibliothèque.\nInscr
 iption obligatoire
ATTACH;FMTTYPE=image/jpeg:https://evenements.onf.ca/wp-content/uploads/202
 4/04/Malartic1440x810_FR.jpg
CATEGORIES:Événement gratuit,L'ONF EN BIBLIO,Projections
LOCATION:Lethbridge Public Library\, 810 5 Ave S.\, Lethbridge\, AB\, T!J 4
 C4\, Canada
GEO:49.69244;-112.83417
X-APPLE-STRUCTURED-LOCATION;VALUE=URI;X-ADDRESS=810 5 Ave S.\, Lethbridge\,
  AB\, T!J 4C4\, Canada;X-APPLE-RADIUS=100;X-TITLE=Lethbridge Public Librar
 y:geo:49.69244,-112.83417
END:VEVENT
BEGIN:VTIMEZONE
TZID:America/New_York
X-LIC-LOCATION:America/New_York
BEGIN:DAYLIGHT
DTSTART:20250309T030000
TZOFFSETFROM:-0500
TZOFFSETTO:-0400
TZNAME:EDT
END:DAYLIGHT
END:VTIMEZONE
END:VCALENDAR