BEGIN:VCALENDAR
VERSION:2.0
PRODID:-//wp-events-plugin.com//7.2.3.1//EN
TZID:America/New_York
X-WR-TIMEZONE:America/New_York
BEGIN:VEVENT
UID:1876@evenements.onf.ca
DTSTART;TZID=America/New_York:20251119T193000
DTEND;TZID=America/New_York:20251119T193000
DTSTAMP:20251009T150948Z
URL:https://evenements.onf.ca/evenements/malartic-a-la-maison-de-la-cultur
 e-cote-des-neiges/
SUMMARY:Malartic à la maison de la culture Côte des Neiges
DESCRIPTION:Le mercredi 19 novembre la maison de la culture Côte-des-Neige
 s présentera gratuitement le film Malartic de Nicolas Paquet.\n\nLa proje
 ction sera suivie d'une discussion avec le réalisateur.\n\nPour plus d'in
 formations : Malartic - Nicolas Paquet - ONF | Ville de Montréal\n\nMalar
 tic | Nicolas Paquet | 2024| 88 min | Documentaire | Françcais\nDix ans a
 près l’ouverture de l’énorme mine d’or à ciel ouvert de Malartic\
 , le miracle économique attendu n’est plus que mirage. Constatant l’
 écart criant entre le déclin de la ville et la richesse de la compagnie 
 minière\, le réalisateur Nicolas Paquet révèle les rouages d’un sys
 tème décisionnel opaque où la population citoyenne n’a pas voix au ch
 apitre. Entre étude anthropologique et enquête au cœur du pouvoir\, Ma
 lartic pose la question universelle de la gestion démocratique du territ
 oire.\nMalartic - (Bande-annonce 01m39s) sur Vimeo
ATTACH;FMTTYPE=image/jpeg:https://evenements.onf.ca/wp-content/uploads/202
 4/11/Malartic1440x810_FR.jpg
CATEGORIES:Événement gratuit,Projections
LOCATION:Maison de la culture Côte-des-Neiges\, 5290 Ch. de la Côte-des-N
 eiges\, Montréal\, Québec\, H3T 1Y2\, Canada
GEO:45.496062;-73.622118
X-APPLE-STRUCTURED-LOCATION;VALUE=URI;X-ADDRESS=5290 Ch. de la Côte-des-Ne
 iges\, Montréal\, Québec\, H3T 1Y2\, Canada;X-APPLE-RADIUS=100;X-TITLE=M
 aison de la culture Côte-des-Neiges:geo:45.496062,-73.622118
END:VEVENT
BEGIN:VTIMEZONE
TZID:America/New_York
X-LIC-LOCATION:America/New_York
BEGIN:STANDARD
DTSTART:20251102T010000
TZOFFSETFROM:-0400
TZOFFSETTO:-0500
TZNAME:EST
END:STANDARD
END:VTIMEZONE
END:VCALENDAR