BEGIN:VCALENDAR
VERSION:2.0
PRODID:-//wp-events-plugin.com//7.2.3.1//EN
TZID:America/New_York
X-WR-TIMEZONE:America/New_York
BEGIN:VEVENT
UID:1858@evenements.onf.ca
DTSTART;TZID=America/New_York:20250930T111500
DTEND;TZID=America/New_York:20250930T113000
DTSTAMP:20250826T190015Z
URL:https://evenements.onf.ca/evenements/mon-ami-le-cheval-vert-bibliotheq
 ue-guy-sanche-gatineau/
SUMMARY:Mon ami le cheval vert - Bibliothèque Guy-Sanche (Gatineau)
DESCRIPTION:Dans le cadre du programme L’ONF EN BIBLIO\, la Bibliothèque
  Guy-Sanche (Gatineau) présentera le film pour enfant\, Mon ami le cheval
  vert.\n\nMon ami le cheval vert | Alanis Obomsawin | 2024 | 11 min \nDa
 ns un lumineux mélange d’animation image par image et de prises de vues
  réelles\, Mon ami le cheval vert raconte une histoire d’enfance vér
 idique de la cinéaste acclamée Alanis Obomsawin. Dans son monde onirique
 \, la jeune Alanis retrouve le tendre et sage cheval vert qui\, avec d’a
 utres esprits animaux\, l’accompagne dans l’exploration du territoire 
 de sa patrie abénaquise. Au fil de ces aventures nocturnes\, elle apprend
  à embrasser la beauté de la vie et à vivre avec compassion. Ce court m
 étrage\, aussi bref que puissant\, est un hommage poétique aux dons dura
 bles de l’imagination enfantine\, de la mémoire culturelle et du lien s
 pirituel.\n\nMon ami le cheval vert | EXTRAIT sur Vimeo\n\n_______________
 ____\n\nPROJECTION GRATUITE\nPour plus de renseignements\, consulter le si
 te de la bibliothèque.
ATTACH;FMTTYPE=image/jpeg:https://evenements.onf.ca/wp-content/uploads/202
 4/12/GreenHorse_1920x1080_FR01.jpg
CATEGORIES:Événement gratuit,L'ONF EN BIBLIO,Projections
LOCATION:Bibliothèque Guy-Sanche\, 855 Boulevard de la Gappe\,\, QC \, Gat
 ineau\, Québec\, J8T 8H9\, Canada
GEO:45.484587;-75.681968
X-APPLE-STRUCTURED-LOCATION;VALUE=URI;X-ADDRESS=855 Boulevard de la Gappe\,
 \, QC \, Gatineau\, Québec\, J8T 8H9\, Canada;X-APPLE-RADIUS=100;X-TITLE=
 Bibliothèque Guy-Sanche:geo:45.484587,-75.681968
END:VEVENT
BEGIN:VTIMEZONE
TZID:America/New_York
X-LIC-LOCATION:America/New_York
BEGIN:DAYLIGHT
DTSTART:20250309T030000
TZOFFSETFROM:-0500
TZOFFSETTO:-0400
TZNAME:EDT
END:DAYLIGHT
END:VTIMEZONE
END:VCALENDAR