BEGIN:VCALENDAR
VERSION:2.0
PRODID:-//wp-events-plugin.com//7.2.3.1//EN
TZID:America/New_York
X-WR-TIMEZONE:America/New_York
BEGIN:VEVENT
UID:1875@evenements.onf.ca
DTSTART;TZID=America/New_York:20251123T140000
DTEND;TZID=America/New_York:20251123T140000
DTSTAMP:20251009T151016Z
URL:https://evenements.onf.ca/evenements/ninan-auassat-a-la-maison-de-la-c
 ulture-antoine-beaudry/
SUMMARY:Ninan Auassat à la Maison de la Culture Antoine-Beaudry
DESCRIPTION:Le 23 novembre la maison de la culture Antoine-Beaudry présent
 era gratuitement le film Ninan Auassat : Nous\, les enfants de Kim O'Bomsa
 win.\nLa projection sera suivie d'une discussion avec Katherine Nequado.\n
 \nPlus d'informations : Ninan Auassat : Nous\, les enfants | Ville de Mon
 tréal\n\nNinan Auassat (Nous\, les enfants) | Kim O’Bomsawin | 2024 | 1
  h 31 min\n\nReconnue pour sa cinématographie intimiste\, la réalisatric
 e Kim O’Bomsawin nous invite à plonger dans l’univers vibrant de Nina
 n Auassat : Nous\, les enfants. Cette œuvre de longue haleine\, dont le t
 ournage s’est déroulé sur plus de six ans\, suit les parcours de trois
  groupes d’enfants de nations différentes (Atikamekw\, Eeyou-Cri et Inn
 u).\n\nEn suivant ces jeunes au fil des étapes cruciales qui mènent jusq
 u’au seuil de l’âge adulte\, nous devenons les témoins de leur vie q
 uotidienne\, de leurs aspirations et des défis auxquels ils font face. To
 urné « à hauteur d’enfant » et proposant une vision novatrice de
  la jeunesse autochtone\, ce puissant documentaire est marqué par l’abs
 ence totale de la parole des adultes et des « experts de la jeunesse 
 ». Il laisse ainsi toute la place à la nouvelle génération\, et à son
  désir ardent d’être entendue.\n\nRésultat : ce périple captivant de
 vient un appel à l’action\, à l’heure où la voix des jeunes résonn
 e\, réclamant le droit à la reconnaissance et à l’épanouissement.\n\
 nNinan Auassat : Nous\, les enfants | BANDE-ANNONCE sur Vimeo
ATTACH;FMTTYPE=image/jpeg:https://evenements.onf.ca/wp-content/uploads/202
 5/09/ONF_HEADER-1440x810_AA_mai2024_FR_1-1-scaled.jpg
CATEGORIES:Événement gratuit,Projections
LOCATION:maison de la culture Antoine Beaudry\, 14678\, rue Notre-Dame Est\
 , Montréal\, H1A 1W1\, Canada
GEO:45.67657;-73.49124
X-APPLE-STRUCTURED-LOCATION;VALUE=URI;X-ADDRESS=14678\, rue Notre-Dame Est\
 , Montréal\, H1A 1W1\, Canada;X-APPLE-RADIUS=100;X-TITLE=maison de la cul
 ture Antoine Beaudry:geo:45.67657,-73.49124
END:VEVENT
BEGIN:VTIMEZONE
TZID:America/New_York
X-LIC-LOCATION:America/New_York
BEGIN:STANDARD
DTSTART:20251102T010000
TZOFFSETFROM:-0400
TZOFFSETTO:-0500
TZNAME:EST
END:STANDARD
END:VTIMEZONE
END:VCALENDAR