BEGIN:VCALENDAR
VERSION:2.0
PRODID:-//wp-events-plugin.com//7.2.3.1//EN
TZID:America/New_York
X-WR-TIMEZONE:America/New_York
BEGIN:VEVENT
UID:1872@evenements.onf.ca
DTSTART;TZID=America/New_York:20251015T193000
DTEND;TZID=America/New_York:20251015T193000
DTSTAMP:20251009T150453Z
URL:https://evenements.onf.ca/evenements/ninan-auassat-a-la-maison-de-la-c
 ulture-cote-des-neiges/
SUMMARY:Ninan Auassat à la Maison de la Culture Côte des Neiges
DESCRIPTION:Le 15 octobre la maison de la culture de Côte des Neiges prés
 entera gratuitement le film Ninan Auassat : Nous\, les enfants de Kim O'Bo
 msawin.\nLa projection sera suivie d'une discussion avec Katherine Nequado
 .\n\nPlus d'informations : https://montreal.ca/evenements/ninan-auassat-no
 us-les-enfants-95104\n\nNinan Auassat (Nous\, les enfants) | Kim O’Bomsa
 win | 2024 | 1 h 31 min\n\nReconnue pour sa cinématographie intimiste\, l
 a réalisatrice Kim O’Bomsawin nous invite à plonger dans l’univers v
 ibrant de Ninan Auassat : Nous\, les enfants. Cette œuvre de longue halei
 ne\, dont le tournage s’est déroulé sur plus de six ans\, suit les par
 cours de trois groupes d’enfants de nations différentes (Atikamekw\, Ee
 you-Cri et Innu).\n\nEn suivant ces jeunes au fil des étapes cruciales qu
 i mènent jusqu’au seuil de l’âge adulte\, nous devenons les témoins
  de leur vie quotidienne\, de leurs aspirations et des défis auxquels ils
  font face. Tourné « à hauteur d’enfant » et proposant une visio
 n novatrice de la jeunesse autochtone\, ce puissant documentaire est marqu
 é par l’absence totale de la parole des adultes et des « experts de 
 la jeunesse ». Il laisse ainsi toute la place à la nouvelle générati
 on\, et à son désir ardent d’être entendue.\n\nRésultat : ce péripl
 e captivant devient un appel à l’action\, à l’heure où la voix des 
 jeunes résonne\, réclamant le droit à la reconnaissance et à l’épan
 ouissement.\n\nNinan Auassat : Nous\, les enfants | BANDE-ANNONCE sur Vime
 o
ATTACH;FMTTYPE=image/jpeg:https://evenements.onf.ca/wp-content/uploads/202
 5/09/ONF_HEADER-1440x810_AA_mai2024_FR_1-1-scaled.jpg
CATEGORIES:Événement gratuit,Projections
LOCATION:Maison de la culture Côte-des-Neiges\, 5290 Ch. de la Côte-des-N
 eiges\, Montréal\, Québec\, H3T 1Y2\, Canada
GEO:45.496062;-73.622118
X-APPLE-STRUCTURED-LOCATION;VALUE=URI;X-ADDRESS=5290 Ch. de la Côte-des-Ne
 iges\, Montréal\, Québec\, H3T 1Y2\, Canada;X-APPLE-RADIUS=100;X-TITLE=M
 aison de la culture Côte-des-Neiges:geo:45.496062,-73.622118
END:VEVENT
BEGIN:VTIMEZONE
TZID:America/New_York
X-LIC-LOCATION:America/New_York
BEGIN:DAYLIGHT
DTSTART:20250309T030000
TZOFFSETFROM:-0500
TZOFFSETTO:-0400
TZNAME:EDT
END:DAYLIGHT
END:VTIMEZONE
END:VCALENDAR