BEGIN:VCALENDAR
VERSION:2.0
PRODID:-//wp-events-plugin.com//7.2.3.1//EN
TZID:America/New_York
X-WR-TIMEZONE:America/New_York
BEGIN:VEVENT
UID:1860@evenements.onf.ca
DTSTART;TZID=America/New_York;VALUE=DATE:20251004
DTEND;TZID=America/New_York;VALUE=DATE:20251005
DTSTAMP:20250826T195404Z
URL:https://evenements.onf.ca/evenements/ninan-auassat-nous-les-enfants-a-
 la-bibliotheque-laure-conan-malbaie/
SUMMARY:Ninan Auassat (Nous\, les enfants) à la Bibliothèque Laure-Conan 
 (Malbaie)
DESCRIPTION:Dans le cadre du programme L’ONF EN BIBLIO\, la Bibliothèque
  Laure-Conan présentera Ninan Auassat (Nous\, les enfants).\n\nNinan Auas
 sat (Nous\, les enfants) | Kim O'Bomsawin | 2024 | 1 h 31 min\n\nReconnue 
 pour sa cinématographie intimiste\, la réalisatrice Kim O’Bomsawin nou
 s invite à plonger dans l’univers vibrant de Ninan Auassat : Nous\, l
 es enfants. Cette œuvre de longue haleine\, dont le tournage s’est dér
 oulé sur plus de six ans\, suit les parcours de trois groupes d’enfants
  de nations différentes (Atikamekw\, Eeyou-Cri et Innu).\n\nEn suivant ce
 s jeunes au fil des étapes cruciales qui mènent jusqu’au seuil de l’
 âge adulte\, nous devenons les témoins de leur vie quotidienne\, de leur
 s aspirations et des défis auxquels ils font face. Tourné « à hauteu
 r d’enfant » et proposant une vision novatrice de la jeunesse autocht
 one\, ce puissant documentaire est marqué par l’absence totale de la pa
 role des adultes et des « experts de la jeunesse ». Il laisse ainsi 
 toute la place à la nouvelle génération\, et à son désir ardent d’
 être entendue.\n\nRésultat : ce périple captivant devient un appel à 
 l’action\, à l’heure où la voix des jeunes résonne\, réclamant le 
 droit à la reconnaissance et à l’épanouissement.\n\nNinan Auassat : N
 ous\, les enfants | BANDE-ANNONCE sur Vimeo\n\n____________________\n\nPRO
 JECTION GRATUITE\nPour plus de renseignements\, consulter le calendrier du
  site de la bibliothèque.
ATTACH;FMTTYPE=image/jpeg:https://evenements.onf.ca/wp-content/uploads/202
 5/08/3_boys_regrouped-1-500x282-1.jpg
CATEGORIES:En salle,Événement gratuit,Projections
LOCATION:Bibliothèque Laure-Conan\, 395\, Saint-Étienne\, Malbaie\, Québ
 ec\, G5A 1S8\, Canada
GEO:47.652408;-70.14945
X-APPLE-STRUCTURED-LOCATION;VALUE=URI;X-ADDRESS=395\, Saint-Étienne\, Malb
 aie\, Québec\, G5A 1S8\, Canada;X-APPLE-RADIUS=100;X-TITLE=Bibliothèque 
 Laure-Conan:geo:47.652408,-70.14945
END:VEVENT
BEGIN:VTIMEZONE
TZID:America/New_York
X-LIC-LOCATION:America/New_York
BEGIN:DAYLIGHT
DTSTART:20250309T030000
TZOFFSETFROM:-0500
TZOFFSETTO:-0400
TZNAME:EDT
END:DAYLIGHT
END:VTIMEZONE
END:VCALENDAR