BEGIN:VCALENDAR
VERSION:2.0
PRODID:-//wp-events-plugin.com//7.2.3.1//EN
TZID:America/New_York
X-WR-TIMEZONE:America/New_York
BEGIN:VEVENT
UID:1850@evenements.onf.ca
DTSTART;TZID=America/New_York:20250925T183000
DTEND;TZID=America/New_York:20250925T203000
DTSTAMP:20250905T162330Z
URL:https://evenements.onf.ca/evenements/ninan-auassat-nous-les-enfants-a-
 la-bibliotheque-saul-bellow/
SUMMARY:Ninan Auassat (Nous\, les enfants) à la Bibliothèque Saul-Bellow
DESCRIPTION:Dans le cadre du programme L’ONF EN BIBLIO\, la Bibliothèque
  Saul-Bellow présentera Ninan Auassat (Nous\, les enfants) suivie d'une r
 encontre par visioconférence avec Monique Benjamin Hervieux\, une des par
 ticipantes du film (série à table avec le cinéma!).\n\nNinan Auassat (N
 ous\, les enfants) | Kim O'Bomsawin | 2024 | 1 h 31 min\n\nReconnue pour s
 a cinématographie intimiste\, la réalisatrice Kim O’Bomsawin nous invi
 te à plonger dans l’univers vibrant de Ninan Auassat : Nous\, les enf
 ants. Cette œuvre de longue haleine\, dont le tournage s’est déroulé 
 sur plus de six ans\, suit les parcours de trois groupes d’enfants de na
 tions différentes (Atikamekw\, Eeyou-Cri et Innu).\n\nEn suivant ces jeun
 es au fil des étapes cruciales qui mènent jusqu’au seuil de l’âge a
 dulte\, nous devenons les témoins de leur vie quotidienne\, de leurs aspi
 rations et des défis auxquels ils font face. Tourné « à hauteur d’
 enfant » et proposant une vision novatrice de la jeunesse autochtone\, 
 ce puissant documentaire est marqué par l’absence totale de la parole d
 es adultes et des « experts de la jeunesse ». Il laisse ainsi toute 
 la place à la nouvelle génération\, et à son désir ardent d’être e
 ntendue.\n\nRésultat : ce périple captivant devient un appel à l’act
 ion\, à l’heure où la voix des jeunes résonne\, réclamant le droit 
 à la reconnaissance et à l’épanouissement.\n\nNinan Auassat : Nous\, 
 les enfants | BANDE-ANNONCE on Vimeo\n\nLa projection sera suivie d’une 
 rencontre par visioconférence avec Monique Benjamin Hervieux de la commun
 ité innue de Pessamit\, une des participantes du film.\n\n_______________
 _____\n\nPROJECTION GRATUITE\nPour plus de renseignements et s’inscrire 
 à l’événement\, consulter le site de la bibliothèque.\nUn buffet se
 ra offert gratuitement.
ATTACH;FMTTYPE=image/jpeg:https://evenements.onf.ca/wp-content/uploads/202
 5/08/3_boys_regrouped-1-500x282-1.jpg
CATEGORIES:En salle,Événement gratuit,L'ONF EN BIBLIO,Projections
LOCATION:Bibliothèque Saul-Bellow\, 3100 Rue Saint-Antoine\, Lachine\, Qu
 ébec\, H8S 4B8\, Canada
GEO:45.440051;-73.691803
X-APPLE-STRUCTURED-LOCATION;VALUE=URI;X-ADDRESS=3100 Rue Saint-Antoine\, La
 chine\, Québec\, H8S 4B8\, Canada;X-APPLE-RADIUS=100;X-TITLE=Bibliothèqu
 e Saul-Bellow:geo:45.440051,-73.691803
END:VEVENT
BEGIN:VTIMEZONE
TZID:America/New_York
X-LIC-LOCATION:America/New_York
BEGIN:DAYLIGHT
DTSTART:20250309T030000
TZOFFSETFROM:-0500
TZOFFSETTO:-0400
TZNAME:EDT
END:DAYLIGHT
END:VTIMEZONE
END:VCALENDAR