BEGIN:VCALENDAR
VERSION:2.0
PRODID:-//wp-events-plugin.com//7.2.3.1//EN
TZID:America/New_York
X-WR-TIMEZONE:America/New_York
BEGIN:VEVENT
UID:1848@evenements.onf.ca
DTSTART;TZID=America/New_York:20251006T140000
DTEND;TZID=America/New_York:20251006T160000
DTSTAMP:20250826T190412Z
URL:https://evenements.onf.ca/evenements/ninan-auassat-sainte-therese/
SUMMARY:Ninan Auassat (Nous\, les enfants) à la Bibliothèque de Sainte-Th
 érèse
DESCRIPTION:Dans le cadre du programme L’ONF EN BIBLIO\, la Bibliothèque
  Sainte-Thérèse présentera Ninan Auassat (Nous\, les enfants).\n\nNinan
  Auassat (Nous\, les enfants) | Kim O'Bomsawin | 2024 | 1 h 31 min\n\nReco
 nnue pour sa cinématographie intimiste\, la réalisatrice Kim O’Bomsawi
 n nous invite à plonger dans l’univers vibrant de Ninan Auassat : Nou
 s\, les enfants. Cette œuvre de longue haleine\, dont le tournage s’est
  déroulé sur plus de six ans\, suit les parcours de trois groupes d’en
 fants de nations différentes (Atikamekw\, Eeyou-Cri et Innu).\n\nEn suiva
 nt ces jeunes au fil des étapes cruciales qui mènent jusqu’au seuil de
  l’âge adulte\, nous devenons les témoins de leur vie quotidienne\, de
  leurs aspirations et des défis auxquels ils font face. Tourné « à h
 auteur d’enfant » et proposant une vision novatrice de la jeunesse au
 tochtone\, ce puissant documentaire est marqué par l’absence totale de 
 la parole des adultes et des « experts de la jeunesse ». Il laisse a
 insi toute la place à la nouvelle génération\, et à son désir ardent 
 d’être entendue.\n\nRésultat : ce périple captivant devient un appel
  à l’action\, à l’heure où la voix des jeunes résonne\, réclamant
  le droit à la reconnaissance et à l’épanouissement.\n\nNinan Auassat
  : Nous\, les enfants | BANDE-ANNONCE sur Vimeo\n\n____________________\n\
 nPROJECTION GRATUITE\nPour plus de renseignements et s’inscrire à l’
 événement\, consulter le site de la bibliothèque.
ATTACH;FMTTYPE=image/jpeg:https://evenements.onf.ca/wp-content/uploads/202
 5/08/3_boys_regrouped-1-500x282-1.jpg
CATEGORIES:En salle,Événement gratuit,Projections
LOCATION:Bibliothèque de Sainte-Thérèse\, 150\, boulevard du Séminaire\
 , Sainte-Thérèse\, Québec\, J7E 1Z2\, Québec\, Canada
GEO:45.643808;-73.839304
X-APPLE-STRUCTURED-LOCATION;VALUE=URI;X-ADDRESS=150\, boulevard du Séminai
 re\, Sainte-Thérèse\, Québec\, J7E 1Z2\, Québec\, Canada;X-APPLE-RADIU
 S=100;X-TITLE=Bibliothèque de Sainte-Thérèse:geo:45.643808,-73.839304
END:VEVENT
BEGIN:VTIMEZONE
TZID:America/New_York
X-LIC-LOCATION:America/New_York
BEGIN:DAYLIGHT
DTSTART:20250309T030000
TZOFFSETFROM:-0500
TZOFFSETTO:-0400
TZNAME:EDT
END:DAYLIGHT
END:VTIMEZONE
END:VCALENDAR