BEGIN:VCALENDAR
VERSION:2.0
PRODID:-//wp-events-plugin.com//7.2.3.1//EN
TZID:America/New_York
X-WR-TIMEZONE:America/New_York
BEGIN:VEVENT
UID:1868@evenements.onf.ca
DTSTART;TZID=America/New_York:20251012T140000
DTEND;TZID=America/New_York:20251012T160000
DTSTAMP:20250929T192025Z
URL:https://evenements.onf.ca/evenements/partition-pour-voix-de-femmes-au-
 musee-dart-de-joliette/
SUMMARY:Partition pour voix de femmes au Musée d'Art de Joliette
DESCRIPTION:Le 12 octobre à 14h le Musée d'Art de Joliette présentera le
  film Partition pour voix de femmes de Sophie Bissonnette.\n\nPartition po
 ur voix de femmes - ONF\n\nSophie Bissonnette\n2001\n\n1 h 26 min\n\nDocum
 entaire\n\nPour la première fois dans l'histoire de l'humanité\, de mars
  à octobre 2000 des millions de femmes du monde entier descendent dans la
  rue pour dénoncer la pauvreté et la violence faite aux femmes. Initiati
 ve audacieuse de la Fédération des femmes du Québec\, la Marche mondial
 e des femmes marque un tournant décisif dans l'émergence d'une solidarit
 é à l'échelle planétaire. Inspiré et porté par cette mouvance\, Part
 ition pour voix de femmes nous amène\, au rythme d'une chanson\, à reviv
 re des moments forts de ces manifestations et à découvrir de nouveaux pr
 ojets élaborés par des femmes sur les cinq continents\, présentant ains
 i la proposition fondamentale des femmes visant à changer le monde.\n\nPo
 ur plus d'informations : Ciné-Musée | Musée d’art de Joliette
ATTACH;FMTTYPE=image/jpeg:https://evenements.onf.ca/wp-content/uploads/202
 5/09/partition-pour-voix-de-femmes-XL.jpg
CATEGORIES:Projections
LOCATION:Musée d'Art de Joliette\, 145 rue du Père-Wilfrid-Corbeil\, Joli
 ette\, J6E 4T4\, Canada
GEO:46.024337;-73.436282
X-APPLE-STRUCTURED-LOCATION;VALUE=URI;X-ADDRESS=145 rue du Père-Wilfrid-Co
 rbeil\, Joliette\, J6E 4T4\, Canada;X-APPLE-RADIUS=100;X-TITLE=Musée d'Ar
 t de Joliette:geo:46.024337,-73.436282
END:VEVENT
BEGIN:VTIMEZONE
TZID:America/New_York
X-LIC-LOCATION:America/New_York
BEGIN:DAYLIGHT
DTSTART:20250309T030000
TZOFFSETFROM:-0500
TZOFFSETTO:-0400
TZNAME:EDT
END:DAYLIGHT
END:VTIMEZONE
END:VCALENDAR