BEGIN:VCALENDAR
VERSION:2.0
PRODID:-//wp-events-plugin.com//7.2.3.1//EN
TZID:America/New_York
X-WR-TIMEZONE:America/New_York
BEGIN:VEVENT
UID:615@evenements.onf.ca
DTSTART;TZID=America/New_York:20200325T190000
DTEND;TZID=America/New_York:20200325T210000
DTSTAMP:20200121T181134Z
URL:https://evenements.onf.ca/evenements/pauline-julien-intime-et-politiqu
 e-22/
SUMMARY:Pauline Julien\, intime et politique
DESCRIPTION:Pascale Ferland\n2018 | 1 h 17 min\n\n&nbsp\;\n\nPauline Julie
 n aurait eu 90 ans en 2018. Et pourtant\, vingt ans après son décès\, c
 ’est l’image d’une femme résolument libre et engagée que la chante
 use continue de projeter dans ce documentaire que lui consacre Pascale Fer
 land. Suivant un minutieux choix d’extraits d’entrevues\, de spectacle
 s et de photos\, puisés à même un colossal et riche fonds d’archives\
 , Pauline Julien\, intime et politique nous entraîne\, des années 1950 a
 ux années 1990\, dans le sillage de cette figure emblématique de la chan
 son québécoise. Entière\, parfois vulnérable\, l’artiste s’y racon
 te sans fard à travers des confidences\, des chansons et des passages de 
 son journal intime. Tandis qu’elle relate le destin hors de l’ordinair
 e de Pauline Julien\, dont son histoire d’amour avec Gérald Godin\, la 
 réalisatrice offre une vivante leçon d’histoire du Québec et brosse l
 e portrait d’une femme inspirante\, dont les idéaux souverainistes et f
 éministes résonnent encore aujourd’hui.\n\nEn présence de  la réali
 satrice Pascale Ferland. \n\nPrécédé de Clémence Desrochers - La clé
 mence des dieux. 
ATTACH;FMTTYPE=image/jpeg:https://evenements.onf.ca/wp-content/uploads/201
 8/09/PAULINE_affiche_baniere_1440x810px_FR-copy.jpg
CATEGORIES:Projections
LOCATION:Maison de la culture Notre Dame-de-Grâce\, 3755 Rue Botrel\, Mont
 réal\, Québec\, H4A 3G8\, Canada
GEO:45.475582;-73.614368
X-APPLE-STRUCTURED-LOCATION;VALUE=URI;X-ADDRESS=3755 Rue Botrel\, Montréal
 \, Québec\, H4A 3G8\, Canada;X-APPLE-RADIUS=100;X-TITLE=Maison de la cult
 ure Notre Dame-de-Grâce:geo:45.475582,-73.614368
END:VEVENT
BEGIN:VTIMEZONE
TZID:America/New_York
X-LIC-LOCATION:America/New_York
BEGIN:DAYLIGHT
DTSTART:20200308T030000
TZOFFSETFROM:-0500
TZOFFSETTO:-0400
TZNAME:EDT
END:DAYLIGHT
END:VTIMEZONE
END:VCALENDAR