BEGIN:VCALENDAR
VERSION:2.0
PRODID:-//wp-events-plugin.com//7.2.3.1//EN
TZID:America/New_York
X-WR-TIMEZONE:America/New_York
BEGIN:VEVENT
UID:1863@evenements.onf.ca
DTSTART;TZID=America/New_York:20251017T140000
DTEND;TZID=America/New_York:20251017T160000
DTSTAMP:20250905T161129Z
URL:https://evenements.onf.ca/evenements/posthumains-a-la-bibliotheque-de-
 dorval/
SUMMARY:Posthumains à la Bibliothèque de Dorval
DESCRIPTION:Dans le cadre du programme L’ONF EN BIBLIO\, la Bibliothèque
  Dorval présentera Posthumains.\n\nPosthumains |Dominique Leclerc | 2025
  | 88 min\n\nAprès des années à dépendre d’outils médicaux pour sa
  survie\, la réalisatrice Dominique Leclerc se tourne vers les technologi
 es émergentes en quête de solutions alternatives. Au contact de cyborgs\
 , de biohackers et de transhumanistes qui cherchent à déjouer la maladie
 \, le vieillissement\, et même la mort\, grâce aux nouvelles technologie
 s\, elle oscille entre espoir et appréhension.\n\nEt si notre « augmenta
 tion » corporelle et cognitive était pilotée par les géants du numéri
 que ? Posthumains aborde des enjeux de société éthiques et politique
 s urgents. L’atmosphère artistique et avant-gardiste qui s’en dégage
  est magnifiée par la trame sonore envoûtante composée par Frannie Hold
 er.\n\nCette œuvre s’inscrit dans la démarche multidisciplinaire de l
 ’autrice\, qui a porté ces thèmes avec nuance et sensibilité au thé
 âtre\, notamment dans les pièces à succès Post Humains et i/O.\n\nhtt
 ps://vimeo.com/1053391629\n\n____________________\n\nPROJECTION GRATUITE\n
 Pour plus de renseignements et pour vous inscrire à l'événement\, consu
 lter le site de la bibliothèque.
ATTACH;FMTTYPE=image/jpeg:https://evenements.onf.ca/wp-content/uploads/202
 5/05/Posthumains_1440X810_FR.jpg
CATEGORIES:En salle,Événement gratuit,Projections
LOCATION:Bibliothèque de Dorval Library\, 1401 Chemin Bord-du-Lac\, Dorval
 \, Québec\, H9S 2E5\, Canada
GEO:45.439721;-73.75654
X-APPLE-STRUCTURED-LOCATION;VALUE=URI;X-ADDRESS=1401 Chemin Bord-du-Lac\, D
 orval\, Québec\, H9S 2E5\, Canada;X-APPLE-RADIUS=100;X-TITLE=Bibliothèqu
 e de Dorval Library:geo:45.439721,-73.75654
END:VEVENT
BEGIN:VTIMEZONE
TZID:America/New_York
X-LIC-LOCATION:America/New_York
BEGIN:DAYLIGHT
DTSTART:20250309T030000
TZOFFSETFROM:-0500
TZOFFSETTO:-0400
TZNAME:EDT
END:DAYLIGHT
END:VTIMEZONE
END:VCALENDAR