BEGIN:VCALENDAR
VERSION:2.0
PRODID:-//wp-events-plugin.com//7.2.3.1//EN
TZID:America/New_York
X-WR-TIMEZONE:America/New_York
BEGIN:VEVENT
UID:1849@evenements.onf.ca
DTSTART;TZID=America/New_York:20251205T140000
DTEND;TZID=America/New_York:20251205T160000
DTSTAMP:20250826T183529Z
URL:https://evenements.onf.ca/evenements/posthumains-a-la-bibliotheque-de-
 sainte-therese/
SUMMARY:Posthumains à la Bibliothèque de Sainte-Thérèse
DESCRIPTION:Dans le cadre du programme L’ONF EN BIBLIO\, la Bibliothèque
  Sainte-Thérèse présentera Posthumains.\n\nPosthumains |Dominique Lecle
 rc | 2025 | 88 min\n\nAprès des années à dépendre d’outils médicau
 x pour sa survie\, la réalisatrice Dominique Leclerc se tourne vers les t
 echnologies émergentes en quête de solutions alternatives. Au contact de
  cyborgs\, de biohackers et de transhumanistes qui cherchent à déjouer l
 a maladie\, le vieillissement\, et même la mort\, grâce aux nouvelles te
 chnologies\, elle oscille entre espoir et appréhension.\n\nEt si notre «
  augmentation » corporelle et cognitive était pilotée par les géants d
 u numérique ? Posthumains aborde des enjeux de société éthiques et 
 politiques urgents. L’atmosphère artistique et avant-gardiste qui s’e
 n dégage est magnifiée par la trame sonore envoûtante composée par Fra
 nnie Holder.\n\nCette œuvre s’inscrit dans la démarche multidisciplina
 ire de l’autrice\, qui a porté ces thèmes avec nuance et sensibilité 
 au théâtre\, notamment dans les pièces à succès Post Humains et i/O.
 \n\nhttps://vimeo.com/1053391629\n\n____________________\n\nPROJECTION GRA
 TUITE\nPour plus de renseignements\, consulter le site de la bibliothèque
 .
ATTACH;FMTTYPE=image/jpeg:https://evenements.onf.ca/wp-content/uploads/202
 5/05/Posthumains_1440X810_FR.jpg
CATEGORIES:En salle,Événement gratuit,Projections
LOCATION:Bibliothèque de Sainte-Thérèse\, 150\, boulevard du Séminaire\
 , Sainte-Thérèse\, Québec\, J7E 1Z2\, Québec\, Canada
GEO:45.643808;-73.839304
X-APPLE-STRUCTURED-LOCATION;VALUE=URI;X-ADDRESS=150\, boulevard du Séminai
 re\, Sainte-Thérèse\, Québec\, J7E 1Z2\, Québec\, Canada;X-APPLE-RADIU
 S=100;X-TITLE=Bibliothèque de Sainte-Thérèse:geo:45.643808,-73.839304
END:VEVENT
BEGIN:VTIMEZONE
TZID:America/New_York
X-LIC-LOCATION:America/New_York
BEGIN:STANDARD
DTSTART:20251102T010000
TZOFFSETFROM:-0400
TZOFFSETTO:-0500
TZNAME:EST
END:STANDARD
END:VTIMEZONE
END:VCALENDAR