BEGIN:VCALENDAR
VERSION:2.0
PRODID:-//wp-events-plugin.com//7.2.3.1//EN
TZID:America/New_York
X-WR-TIMEZONE:America/New_York
BEGIN:VEVENT
UID:1864@evenements.onf.ca
DTSTART;TZID=America/New_York:20251029T183000
DTEND;TZID=America/New_York:20251029T210000
DTSTAMP:20250905T162504Z
URL:https://evenements.onf.ca/evenements/posthumains-a-la-bibliotheque-sau
 l-bellow/
SUMMARY:Posthumains à la Bibliothèque Saul-Bellow
DESCRIPTION:Dans le cadre du programme L’ONF EN BIBLIO\, la Bibliothèque
  Saul-Bellow présentera Posthumains en présence de la cinéaste\, Domini
 que Leclerc (série À table avec le cinéma!).\n\nPosthumains |Dominique 
 Leclerc | 2025 | 88 min\n\nAprès des années à dépendre d’outils mé
 dicaux pour sa survie\, la réalisatrice Dominique Leclerc se tourne vers 
 les technologies émergentes en quête de solutions alternatives. Posthuma
 ins la suit au fil de ses rencontres avec des cyborgs\, des biohackers et
  des transhumanistes qui\, grâce aux technologies\, cherchent à déjou
 er maladie\, vieillissement et mort. Le documentaire aborde des enjeux ét
 hiques et politiques urgents quant à l’avenir de notre espèce.\n\nApr
 ès la projection\, discussion avec Dominique Leclerc\, la réalisatrice d
 e Posthumains. \n\nDominique Leclerc est l’autrice\, la co-metteuse en 
 scène et l’interprète principale des pièces i/O et Post Humains\, 
 toutes deux finalistes au prix Michel-Tremblay et présentées à travers 
 le Québec et au Festival international New Drama de la Schaubühne à Ber
 lin. Sa démarche multidisciplinaire explore les impacts des technologies 
 émergentes sur le vivant.  Posthumains\, son premier long métrage docum
 entaire\, dont elle signe également la scénarisation\, aborde avec nuanc
 e ces mêmes thèmes.\n\nhttps://vimeo.com/1053391629\n\n_________________
 ___\n\nPROJECTION GRATUITE\nPour plus de renseignements et pour vous inscr
 ire à l'événement\, consulter le site de la bibliothèque.\nUn buffet s
 era offert gratuitement.
ATTACH;FMTTYPE=image/jpeg:https://evenements.onf.ca/wp-content/uploads/202
 5/05/Posthumains_1440X810_FR.jpg
CATEGORIES:En salle,Événement gratuit,Projections
LOCATION:Bibliothèque Saul-Bellow\, 3100 Rue Saint-Antoine\, Lachine\, Qu
 ébec\, H8S 4B8\, Canada
GEO:45.440051;-73.691803
X-APPLE-STRUCTURED-LOCATION;VALUE=URI;X-ADDRESS=3100 Rue Saint-Antoine\, La
 chine\, Québec\, H8S 4B8\, Canada;X-APPLE-RADIUS=100;X-TITLE=Bibliothèqu
 e Saul-Bellow:geo:45.440051,-73.691803
END:VEVENT
BEGIN:VTIMEZONE
TZID:America/New_York
X-LIC-LOCATION:America/New_York
BEGIN:DAYLIGHT
DTSTART:20250309T030000
TZOFFSETFROM:-0500
TZOFFSETTO:-0400
TZNAME:EDT
END:DAYLIGHT
END:VTIMEZONE
END:VCALENDAR