BEGIN:VCALENDAR
VERSION:2.0
PRODID:-//wp-events-plugin.com//7.2.3.1//EN
TZID:America/New_York
X-WR-TIMEZONE:America/New_York
BEGIN:VEVENT
UID:1839@evenements.onf.ca
DTSTART;TZID=America/New_York:20250618T160000
DTEND;TZID=America/New_York:20250618T193000
DTSTAMP:20250529T205904Z
URL:https://evenements.onf.ca/evenements/posthumains-ceim/
SUMMARY:Posthumains - CEIM
DESCRIPTION:Posthumains\nDominique Leclerc\n2025 | 88 min\nDocumentaire\nFr
 ançais et anglais avec sous-titres en anglais\nProjection privée et disc
 ussion avec Dominique Leclerc sur les défis éthiques des nouvelles techn
 ologies et de l'IA dans le domaine de la santé.\n\nInscription obligatoir
 e : Je m'inscris\n\nAprès des années à dépendre d’outils médicaux p
 our sa survie\, Dominique Leclerc se tourne vers les technologies émergen
 tes en quête de solutions alternatives.\n\nAu contact de cyborgs\, de bi
 ohackers et de transhumanistes qui cherchent à déjouer la maladie\, le 
 vieillissement\, et même la mort\, grâce aux nouvelles technologies\, el
 le oscille entre espoir et appréhension.\n\nLe 18 juin prochain\, ne man
 quez surtout pas cette opportunité d'assister à la projection\, en prés
 ence de la réalisatrice\, de « Posthumains »\, un documentaire produit 
 et distribué par l'Office national du film du Canada\, qui vous plongera 
 au cœur d’un monde où la science repousse sans cesse les limites du co
 rps humain.\n\nLa projection sera suivie d’une discussion\, animée par 
 Amaury de Foresta avec la participation du public\, au cours de laquelle i
 ls aborderont ensemble des sujets brûlants de l’actualité tels que :\n
 \n 	le transhumanisme\n 	les valeurs morales de la technologie\n 	l'éthi
 que de l'innovation\n 	et\, ultimement\, l’avenir de notre humanité\n\n
 &nbsp\;\n\n[embed]https://vimeo.com/1053391629[/embed]
ATTACH;FMTTYPE=image/jpeg:https://evenements.onf.ca/wp-content/uploads/202
 5/05/Posthumains_1440X810_FR.jpg
CATEGORIES:Projections
LOCATION:CEIM\, 20 Rue Queen\, Montreal\, Quebec\, H3C 1T4\, Canada
GEO:45.496854;-73.553519
X-APPLE-STRUCTURED-LOCATION;VALUE=URI;X-ADDRESS=20 Rue Queen\, Montreal\, Q
 uebec\, H3C 1T4\, Canada;X-APPLE-RADIUS=100;X-TITLE=CEIM:geo:45.496854,-73
 .553519
END:VEVENT
BEGIN:VTIMEZONE
TZID:America/New_York
X-LIC-LOCATION:America/New_York
BEGIN:DAYLIGHT
DTSTART:20250309T030000
TZOFFSETFROM:-0500
TZOFFSETTO:-0400
TZNAME:EDT
END:DAYLIGHT
END:VTIMEZONE
END:VCALENDAR