BEGIN:VCALENDAR
VERSION:2.0
PRODID:-//wp-events-plugin.com//7.2.3.1//EN
TZID:America/New_York
X-WR-TIMEZONE:America/New_York
BEGIN:VEVENT
UID:1881@evenements.onf.ca
DTSTART;TZID=America/New_York:20251105T164500
DTEND;TZID=America/New_York:20251105T190000
DTSTAMP:20251030T183044Z
URL:https://evenements.onf.ca/evenements/posthumains-espum/
SUMMARY:Posthumains @ ESPUM
DESCRIPTION:Rejoignez L'école de la Santé Publique de l'UDEM le 5 novembr
 e prochain à 16h45 pour un ciné-causerie de Posthumains (Dominique Lecle
 rc\, 2025\, 88mins)\n\nCiné-causerie en compagnie de Charles Dupras\, pro
 fesseur adjoint au Département de médecine sociale et préventive et res
 ponsable des programmes de bioéthique\, de Vincent Couture\, professeur 
 agrégé en bioéthique au Département de médecine sociale et préventiv
 e\, et de Dominique Leclerc\, réalisatrice du documentaire.\n\nSynopsis :
  Ce documentaire explore les technologies qui promettent de dépasser les 
 limites du corps humain. À travers des témoignages de cyborgs\, biohacke
 rs et transhumanistes\, le film interroge notre rapport au progrès\, entr
 e espoirs médicaux et dérives éthiques\, sociales et politiques.\n\nPr
 ésenté en collaboration avec l’École de santé publique de l’Univer
 sité de Montréal et l’Office national du film du Canada (ONF)\n\nRése
 rvez votre place ici : https://culture-umontreal.tuxedobillet.com/main/pos
 thumain
ATTACH;FMTTYPE=image/jpeg:https://evenements.onf.ca/wp-content/uploads/202
 5/05/Posthumains_1440X810_FR.jpg
CATEGORIES:Conference,Événement gratuit
LOCATION:Pavillon J.-A.-DeSève de l'Université de Montréal - Centre d'es
 sai\, 2332 boul. Édouard-Montpetit\, 6e étage\, Montreal\, Québec\, H3T
  1J4\, Montreal\, Canada
GEO:45.507134;-73.614418
X-APPLE-STRUCTURED-LOCATION;VALUE=URI;X-ADDRESS=2332 boul. Édouard-Montpet
 it\, 6e étage\, Montreal\, Québec\, H3T 1J4\, Montreal\, Canada;X-APPLE-
 RADIUS=100;X-TITLE=Pavillon J.-A.-DeSève de l'Université de Montréal - 
 Centre d'essai:geo:45.507134,-73.614418
END:VEVENT
BEGIN:VTIMEZONE
TZID:America/New_York
X-LIC-LOCATION:America/New_York
BEGIN:STANDARD
DTSTART:20251102T010000
TZOFFSETFROM:-0400
TZOFFSETTO:-0500
TZNAME:EST
END:STANDARD
END:VTIMEZONE
END:VCALENDAR