BEGIN:VCALENDAR
VERSION:2.0
PRODID:-//wp-events-plugin.com//7.2.3.1//EN
TZID:America/New_York
X-WR-TIMEZONE:America/New_York
BEGIN:VEVENT
UID:1374@evenements.onf.ca
DTSTART;TZID=America/New_York:20230511T190000
DTEND;TZID=America/New_York:20230511T203000
DTSTAMP:20230503T201737Z
URL:https://evenements.onf.ca/evenements/projection-de-courts-metrages-sur
 -les-langues-autochtones/
SUMMARY:Projection de courts-métrages sur les langues autochtones
DESCRIPTION:Dans le cadre de la Décennie internationale des langues autoch
 tones et du colloque sur les langues autochtones - ACFAS\, venez découvri
 r des oeuvres documentaires\, de fiction et des courts d'animation réalis
 é.e.s par des cinéastes autochtones\, dans un programme monté spéciale
 ment pour l'occasion\, et discuter avec Kijâtai-Alexandra Cheezo\, ambass
 adrice du Wapikoni.\n\nProjection des films suivants inclus :\n\nVistas Pe
 tit Tonerre\nFlorent Vollant je rêve en innu\nChanson de l'Arctique\nPour
  que survive la langue natkota\nTrois mille\nInnu-Aimun La langue innue\nS
 haman\nMobiliser\n\n*Portes à 18h30\, dans la limite des places disponibl
 es.\n\nPour plus d'information\, cliquez ici.
ATTACH;FMTTYPE=image/jpeg:https://evenements.onf.ca/wp-content/uploads/202
 3/05/NFB_EPK-header-1440X810-Arctic-Song-2021-10-01-144-ppi-IMAGE-AND-TITL
 E.jpg
CATEGORIES:Événement gratuit,Projections
LOCATION:Centre d'essai de l’Université de Montréal (Pavillon J.-A.-DeS
 ève)\, 2332\, boul. Édouard-Montpetit\, Montréal\, Québec\, H3T 1J4\, 
 Canada
GEO:45.507134;-73.614418
X-APPLE-STRUCTURED-LOCATION;VALUE=URI;X-ADDRESS=2332\, boul. Édouard-Montp
 etit\, Montréal\, Québec\, H3T 1J4\, Canada;X-APPLE-RADIUS=100;X-TITLE=C
 entre d'essai de l’Université de Montréal (Pavillon J.-A.-DeSève):geo
 :45.507134,-73.614418
END:VEVENT
BEGIN:VTIMEZONE
TZID:America/New_York
X-LIC-LOCATION:America/New_York
BEGIN:DAYLIGHT
DTSTART:20230312T030000
TZOFFSETFROM:-0500
TZOFFSETTO:-0400
TZNAME:EDT
END:DAYLIGHT
END:VTIMEZONE
END:VCALENDAR