BEGIN:VCALENDAR
VERSION:2.0
PRODID:-//wp-events-plugin.com//7.2.3.1//EN
TZID:America/New_York
X-WR-TIMEZONE:America/New_York
BEGIN:VEVENT
UID:1880@evenements.onf.ca
DTSTART;TZID=America/New_York:20251127T190000
DTEND;TZID=America/New_York:20251127T210000
DTSTAMP:20251029T194502Z
URL:https://evenements.onf.ca/evenements/salut-cine-amours-interdites-au-d
 ela-des-prejuges-vies-et-paroles-de-lesbiennes/
SUMMARY:Salut ciné ! Amours interdites : au-delà des préjugés\, vies et
  paroles de lesbiennes
DESCRIPTION:Amours interdites : au-delà des préjugés\, vies et paroles d
 e lesbiennes\nPour réserver vos places\, cliquez ici\n\nAerlyn Weissman e
 t Lynne Fernie\, 1992\n84 minutes\nVersion originale anglaise\, sous-titre
 s français\n\nSorti en 1992\, ce long métrage documentaire remastérisé
  en HD fait plonger le spectateur dans la riche histoire de l’expérienc
 e lesbienne telle qu’elle était vécue au Canada au milieu du 20e sièc
 le. Entrevues contemporaines\, métrage d’archives et fiction inspirée 
 des romans de gare des années 1950 s’entrecroisent dans ce film à la f
 ois drôle\, émouvant et libérateur.\n\nCette œuvre contient des scène
 s de nudité et/ou de sexualité. Pour public averti.\n\nEn collaboration 
 avec le Festival Image+Nation\n\nLe documentaire sera précédé du court 
 métrage Vers la lumière (Sheona McDonald\, 2021\, 19 min)
ATTACH;FMTTYPE=image/jpeg:https://evenements.onf.ca/wp-content/uploads/202
 5/10/412017_7373-scaled.jpg
CATEGORIES:Événement gratuit,Projections
LOCATION:Salle Alanis-Obomsawin\, ONF\, 1500\, rue Balmoral\, Montréal\, Q
 uébec\, H3A 0H3\, Canada
GEO:45.507553;-73.568328
X-APPLE-STRUCTURED-LOCATION;VALUE=URI;X-ADDRESS=1500\, rue Balmoral\, Montr
 éal\, Québec\, H3A 0H3\, Canada;X-APPLE-RADIUS=100;X-TITLE=Salle Alanis-
 Obomsawin\, ONF:geo:45.507553,-73.568328
END:VEVENT
BEGIN:VTIMEZONE
TZID:America/New_York
X-LIC-LOCATION:America/New_York
BEGIN:STANDARD
DTSTART:20251102T010000
TZOFFSETFROM:-0400
TZOFFSETTO:-0500
TZNAME:EST
END:STANDARD
END:VTIMEZONE
END:VCALENDAR