BEGIN:VCALENDAR
VERSION:2.0
PRODID:-//wp-events-plugin.com//7.2.3.1//EN
TZID:America/New_York
X-WR-TIMEZONE:America/New_York
BEGIN:VEVENT
UID:1883@evenements.onf.ca
DTSTART;TZID=America/New_York:20260219T190000
DTEND;TZID=America/New_York:20260219T211500
DTSTAMP:20260128T185840Z
URL:https://evenements.onf.ca/evenements/salut-cine-neuvieme-etage/
SUMMARY:Salut ciné ! Projection de Neuvième étage
DESCRIPTION:Salut ciné ! Neuvième étage\nÉLEVONS NOS VOIX ENSEMBLE\n\n
 À l’occasion du Mois de l’histoire des Noirs\, en février\, l’Of
 fice national du film du Canada proposera des événements gratuits qui
  se tiendront à l’Espace ONF et à la salle Alanis-Obomsawin\, à l
 ’Îlot Balmoral\, devant la place des Festivals. Ce mois\, sur le thème
  Élevons nos voix ensemble\, sera également souligné sur les platefor
 mes de l’ONF avec une chaîne thématique consacrée aux communautés
  noires.\nProjection gratuite\, jeudi 19 février  \nLes portes ouvrent 
 à 18h30. Pour réserver vos places\, cliquez ici\n\nMina Shum\, 2015\n81 
 minutes\nVersion originale anglaise\, sous-titres français\n\nLong métra
 ge documentaire de Mina Shum sur un tournant dans les relations raciales c
 anadiennes et l’un des épisodes les plus contestés de l’histoire de 
 la nation. À Montréal\, un groupe d’étudiants issus des Caraïbes sou
 pçonnent leur professeur de racisme et occupent une section de l’école
  en guise de protestation. Des décennies plus tard\, les acteurs principa
 ux du mouvement de contestation se remémorent les événements\, cherchan
 t à comprendre ce qui s’est passé et à mesurer le progrès réalisé 
 depuis.\n\nLe documentaire sera précédé du court métrage reXistence (
 Will Prosper\, 2025\, 9 min)\n\nCet événement est co-présenté par Cin
 é Cozry. La projection sera suivie d'une discussion avec l’auteur et pr
 ofesseur David Austin sur ce que s’imaginaient les radicaux noirs lorsqu
 ’ils parlaient de liberté\, et sur l’internationalisme que ces révol
 utionnaires ont fait naître\, hier comme aujourd’hui.\n\nÀ l’occasio
 n du Mois de l’histoire des Noirs\, cette projection ouvre un espace de 
 réflexion critique et collective sur les idées fondatrices des années 1
 968–1969.\n\nLa discussion se tiendra en français et en anglais.\n\n
ATTACH;FMTTYPE=image/jpeg:https://evenements.onf.ca/wp-content/uploads/202
 4/12/HELLO-FILM_1136x640.png
CATEGORIES:Événement gratuit,Projections
LOCATION:Salle Alanis-Obomsawin\, ONF\, 1500\, rue Balmoral\, Montréal\, Q
 uébec\, H3A 0H3\, Canada
GEO:45.507553;-73.568328
X-APPLE-STRUCTURED-LOCATION;VALUE=URI;X-ADDRESS=1500\, rue Balmoral\, Montr
 éal\, Québec\, H3A 0H3\, Canada;X-APPLE-RADIUS=100;X-TITLE=Salle Alanis-
 Obomsawin\, ONF:geo:45.507553,-73.568328
END:VEVENT
BEGIN:VTIMEZONE
TZID:America/New_York
X-LIC-LOCATION:America/New_York
BEGIN:STANDARD
DTSTART:20251102T010000
TZOFFSETFROM:-0400
TZOFFSETTO:-0500
TZNAME:EST
END:STANDARD
END:VTIMEZONE
END:VCALENDAR