BEGIN:VCALENDAR
VERSION:2.0
PRODID:-//wp-events-plugin.com//7.2.3.1//EN
TZID:America/New_York
X-WR-TIMEZONE:America/New_York
BEGIN:VEVENT
UID:1887@evenements.onf.ca
DTSTART;TZID=America/New_York:20260212T190000
DTEND;TZID=America/New_York:20260212T190000
DTSTAMP:20260128T202301Z
URL:https://evenements.onf.ca/evenements/soiree-de-courts-metrages-les-lut
 tes-dici-et-dailleurs/
SUMMARY:Soirée de courts-métrages | Les luttes d’ici et d’ailleurs
DESCRIPTION:Le 12 février dans le cadre de la soirée de courts métrages 
 Les luttes d'ici et d'ailleurs\, le comité de solidarité Trois-Rivières
  diffusera le court métrage Mobiliser\n\nPour plus d'informations : Soir
 ée de courts-métrages | Les luttes d’ici et d’ailleurs - Comité de 
 Solidarité Trois-Rivières\n\nMobiliser\n\nCaroline Monnet\n\n2015 3 mi
 n Documentaire\n\n\n\n\n\n\nRéalisé dans le cadre de la série « Souve
 nir »\, le court métrage Mobiliser de Caroline Monnet se sert des archiv
 es de l’ONF pour proposer un exaltant voyage qui nous emmène du Grand-N
 ord jusqu’au Sud urbain. L’œuvre fait ressortir la tension entre les 
 modes de vie traditionnel et moderne que vivent les Premières Nations.\n\
 n\n\n&nbsp\;
ATTACH;FMTTYPE=image/jpeg:https://evenements.onf.ca/wp-content/uploads/202
 0/01/mobiliser.jpg
CATEGORIES:Événement gratuit
LOCATION:Repère des mauvaises langues\, 127 rue Radisson\, Trois Rivières
 \, Canada
GEO:46.342584;-72.540586
X-APPLE-STRUCTURED-LOCATION;VALUE=URI;X-ADDRESS=127 rue Radisson\, Trois Ri
 vières\, Canada;X-APPLE-RADIUS=100;X-TITLE=Repère des mauvaises langues:
 geo:46.342584,-72.540586
END:VEVENT
BEGIN:VTIMEZONE
TZID:America/New_York
X-LIC-LOCATION:America/New_York
BEGIN:STANDARD
DTSTART:20251102T010000
TZOFFSETFROM:-0400
TZOFFSETTO:-0500
TZNAME:EST
END:STANDARD
END:VTIMEZONE
END:VCALENDAR