BEGIN:VCALENDAR
VERSION:2.0
PRODID:-//wp-events-plugin.com//7.2.3.1//EN
TZID:America/New_York
X-WR-TIMEZONE:America/New_York
BEGIN:VEVENT
UID:1847@evenements.onf.ca
DTSTART;TZID=America/New_York:20250929T130000
DTEND;TZID=America/New_York:20250929T163000
DTSTAMP:20250827T202414Z
URL:https://evenements.onf.ca/evenements/visite-des-studios-danimation-de-
 lonf/
SUMMARY:Visite des studios d’animation de l’ONF
DESCRIPTION:L’ONF a le plaisir d’inviter les professionnels et professi
 onnelles de l’animation à une visite guidée de ses studios d’animati
 on anglais et français à Montréal\, le lundi 29 septembre de 13 h à 16
  h 30.    \nVenez à la rencontre des cinéastes et des équipes de prod
 uction\, et découvrez les univers créatifs uniques de Catherine Lepage\,
  Francis Desjardins\, Claude Cloutier\, Mochi Lin\, Dylan Glynn et Bianca 
 Arroyo-Kreimes !\n\nVous pourrez également assister à la leçon de cin
 éma (en anglais) du réalisateur Alex Boya.\n\nLes places sont limitées.
  Réservation obligatoire.\nMerci de confirmer votre présence par courrie
 l avant le 28 septembre à D.Forget@nfb.ca.\n\nNos équipes vous accueill
 eront dès midi avec des rafraîchissements et une collation. Les activit
 és débuteront à 13 h précises. Merci de prendre note que les retardat
 aires ne seront pas admis.\n\nAu plaisir de vous retrouver dans nos studio
 s !
ATTACH;FMTTYPE=image/jpeg:https://evenements.onf.ca/wp-content/uploads/202
 5/08/ANSR_Grabs00086416-scaled.jpg
CATEGORIES:Événement gratuit,Les rencontres ONF
LOCATION:Office national du film du Canada\, 1501\, rue De Bleury\, Montré
 al\, Québec\, H3A 0H3\, Canada
GEO:45.507113;-73.56829
X-APPLE-STRUCTURED-LOCATION;VALUE=URI;X-ADDRESS=1501\, rue De Bleury\, Mont
 réal\, Québec\, H3A 0H3\, Canada;X-APPLE-RADIUS=100;X-TITLE=Office natio
 nal du film du Canada:geo:45.507113,-73.56829
END:VEVENT
BEGIN:VTIMEZONE
TZID:America/New_York
X-LIC-LOCATION:America/New_York
BEGIN:DAYLIGHT
DTSTART:20250309T030000
TZOFFSETFROM:-0500
TZOFFSETTO:-0400
TZNAME:EDT
END:DAYLIGHT
END:VTIMEZONE
END:VCALENDAR